BEGIN:VCALENDAR
VERSION:2.0
PRODID:-//Freie evangelische Gemeinde Coburg - ECPv6.15.20//NONSGML v1.0//EN
CALSCALE:GREGORIAN
METHOD:PUBLISH
X-ORIGINAL-URL:https://fegc.de
X-WR-CALDESC:Veranstaltungen für Freie evangelische Gemeinde Coburg
REFRESH-INTERVAL;VALUE=DURATION:PT1H
X-Robots-Tag:noindex
X-PUBLISHED-TTL:PT1H
BEGIN:VTIMEZONE
TZID:Europe/Berlin
BEGIN:DAYLIGHT
TZOFFSETFROM:+0100
TZOFFSETTO:+0200
TZNAME:CEST
DTSTART:20250330T010000
END:DAYLIGHT
BEGIN:STANDARD
TZOFFSETFROM:+0200
TZOFFSETTO:+0100
TZNAME:CET
DTSTART:20251026T010000
END:STANDARD
BEGIN:DAYLIGHT
TZOFFSETFROM:+0100
TZOFFSETTO:+0200
TZNAME:CEST
DTSTART:20260329T010000
END:DAYLIGHT
BEGIN:STANDARD
TZOFFSETFROM:+0200
TZOFFSETTO:+0100
TZNAME:CET
DTSTART:20261025T010000
END:STANDARD
BEGIN:DAYLIGHT
TZOFFSETFROM:+0100
TZOFFSETTO:+0200
TZNAME:CEST
DTSTART:20270328T010000
END:DAYLIGHT
BEGIN:STANDARD
TZOFFSETFROM:+0200
TZOFFSETTO:+0100
TZNAME:CET
DTSTART:20271031T010000
END:STANDARD
END:VTIMEZONE
BEGIN:VEVENT
DTSTART;TZID=Europe/Berlin:20260422T193000
DTEND;TZID=Europe/Berlin:20260422T203000
DTSTAMP:20260424T144906
CREATED:20260409T151105Z
LAST-MODIFIED:20260422T181108Z
UID:24754-1776886200-1776889800@fegc.de
SUMMARY:Bibelabend mit Robert Kröger
DESCRIPTION:
URL:https://fegc.de/veranstaltung/bibelabend-mit-robert-kroeger-7/
CATEGORIES:Sonstige Termine
END:VEVENT
BEGIN:VEVENT
DTSTART;TZID=Europe/Berlin:20260421T193000
DTEND;TZID=Europe/Berlin:20260421T213000
DTSTAMP:20260424T144906
CREATED:20251216T164140Z
LAST-MODIFIED:20260421T182615Z
UID:13927-1776799800-1776807000@fegc.de
SUMMARY:Jugendkreis
DESCRIPTION:
URL:https://fegc.de/veranstaltung/jugendkreis-56/
CATEGORIES:Kinder-Jugend
END:VEVENT
BEGIN:VEVENT
DTSTART;TZID=Europe/Berlin:20260421T093000
DTEND;TZID=Europe/Berlin:20260421T113000
DTSTAMP:20260424T144906
CREATED:20260119T135637Z
LAST-MODIFIED:20260421T085601Z
UID:17093-1776763800-1776771000@fegc.de
SUMMARY:Königskinder
DESCRIPTION:
URL:https://fegc.de/veranstaltung/koenigskinder-11/
LOCATION:Kinderraum\, Bistro
CATEGORIES:Kinder-Jugend
END:VEVENT
BEGIN:VEVENT
DTSTART;TZID=Europe/Berlin:20260419T100000
DTEND;TZID=Europe/Berlin:20260419T113000
DTSTAMP:20260424T144906
CREATED:20251127T182613Z
LAST-MODIFIED:20260419T092552Z
UID:12246-1776592800-1776598200@fegc.de
SUMMARY:Gottesdienst mit Robert Kröger
DESCRIPTION:
URL:https://fegc.de/veranstaltung/gottesdienst-mit-konrad-mueller-2/
CATEGORIES:Gottesdienst
END:VEVENT
BEGIN:VEVENT
DTSTART;TZID=Europe/Berlin:20260417T193000
DTEND;TZID=Europe/Berlin:20260417T220000
DTSTAMP:20260424T144906
CREATED:20251216T164126Z
LAST-MODIFIED:20260417T194045Z
UID:13921-1776454200-1776463200@fegc.de
SUMMARY:Move Up
DESCRIPTION:Jeden Freitag Abend startet unser Move Up. Hier  kannst du chillen\, Freunde treffen und einfach eine witzige und actionreiche Zeit erleben. Vor allem aber wollen wir mit dir Jesus besser kennenlernen und erfahren\, wie spannend das Leben mit IHM ist! Du kannst jeder Zeit einfach spontan und ohne Anmeldung kommen! Wir freuen uns auf dich!
URL:https://fegc.de/veranstaltung/move-up-51/
LOCATION:Jugendraum\, Bistro\, Mehrzweck klein\, Mehrzweck groß
CATEGORIES:Kinder-Jugend
END:VEVENT
BEGIN:VEVENT
DTSTART;TZID=Europe/Berlin:20260417T160000
DTEND;TZID=Europe/Berlin:20260417T180000
DTSTAMP:20260424T144906
CREATED:20260313T235742Z
LAST-MODIFIED:20260417T155551Z
UID:22260-1776441600-1776448800@fegc.de
SUMMARY:Move-Kids
DESCRIPTION:
URL:https://fegc.de/veranstaltung/move-kids-42/
LOCATION:gr. Saal\, Jugendraum\, Kinderraum\, Bistro\, Mehrzweck groß\, Mehrzweck klein\, Beamer\, Max-Böhme-Ring\, Bertelsdorf\, 96450\, Coburg\, de
CATEGORIES:Kinder-Jugend
END:VEVENT
BEGIN:VEVENT
DTSTART;TZID=Europe/Berlin:20260415T193000
DTEND;TZID=Europe/Berlin:20260415T203000
DTSTAMP:20260424T144906
CREATED:20260409T151105Z
LAST-MODIFIED:20260415T172639Z
UID:24753-1776281400-1776285000@fegc.de
SUMMARY:Bibelabend mit Robert Kröger
DESCRIPTION:
URL:https://fegc.de/veranstaltung/bibelabend-mit-robert-kroeger-6/
CATEGORIES:Sonstige Termine
END:VEVENT
BEGIN:VEVENT
DTSTART;TZID=Europe/Berlin:20260414T193000
DTEND;TZID=Europe/Berlin:20260414T213000
DTSTAMP:20260424T144906
CREATED:20251216T164127Z
LAST-MODIFIED:20260414T191145Z
UID:13925-1776195000-1776202200@fegc.de
SUMMARY:Jugendkreis
DESCRIPTION:
URL:https://fegc.de/veranstaltung/jugendkreis-55/
CATEGORIES:Kinder-Jugend
END:VEVENT
BEGIN:VEVENT
DTSTART;TZID=Europe/Berlin:20260414T190000
DTEND;TZID=Europe/Berlin:20260414T213000
DTSTAMP:20260424T144906
CREATED:20260409T151105Z
LAST-MODIFIED:20260414T184114Z
UID:24752-1776193200-1776202200@fegc.de
SUMMARY:Handarbeitstreff
DESCRIPTION:
URL:https://fegc.de/veranstaltung/handarbeitstreff-8/
CATEGORIES:Sonstige Termine
END:VEVENT
BEGIN:VEVENT
DTSTART;TZID=Europe/Berlin:20260414T093000
DTEND;TZID=Europe/Berlin:20260414T113000
DTSTAMP:20260424T144906
CREATED:20260119T135625Z
LAST-MODIFIED:20260414T084112Z
UID:17092-1776159000-1776166200@fegc.de
SUMMARY:Königskinder
DESCRIPTION:
URL:https://fegc.de/veranstaltung/koenigskinder-10/
LOCATION:Kinderraum\, Bistro
CATEGORIES:Kinder-Jugend
END:VEVENT
BEGIN:VEVENT
DTSTART;TZID=Europe/Berlin:20260412T100000
DTEND;TZID=Europe/Berlin:20260412T113000
DTSTAMP:20260424T144906
CREATED:20251127T182613Z
LAST-MODIFIED:20260412T092707Z
UID:12243-1775988000-1775993400@fegc.de
SUMMARY:Gottesdienst mit Konrad Müller
DESCRIPTION:
URL:https://fegc.de/veranstaltung/gottesdienst-mit-robert-kroeger-33/
CATEGORIES:Gottesdienst
END:VEVENT
BEGIN:VEVENT
DTSTART;TZID=Europe/Berlin:20260411T190000
DTEND;TZID=Europe/Berlin:20260411T210000
DTSTAMP:20260424T144906
CREATED:20260409T151105Z
LAST-MODIFIED:20260411T182547Z
UID:24751-1775934000-1775941200@fegc.de
SUMMARY:Worshipnight 2026
DESCRIPTION:übergemeindlicher Lobpreisabend – im großen Saal
URL:https://fegc.de/veranstaltung/worshipnight-2026/
CATEGORIES:Sonstige Termine
END:VEVENT
BEGIN:VEVENT
DTSTART;TZID=Europe/Berlin:20260408T193000
DTEND;TZID=Europe/Berlin:20260408T203000
DTSTAMP:20260424T144906
CREATED:20260222T011107Z
LAST-MODIFIED:20260408T181048Z
UID:20353-1775676600-1775680200@fegc.de
SUMMARY:Bibelabend mit Anthony Labutap
DESCRIPTION:
URL:https://fegc.de/veranstaltung/bibelabend-44/
CATEGORIES:Sonstige Termine
END:VEVENT
BEGIN:VEVENT
DTSTART;TZID=Europe/Berlin:20260407T193000
DTEND;TZID=Europe/Berlin:20260407T213000
DTSTAMP:20260424T144906
CREATED:20251216T164127Z
LAST-MODIFIED:20260407T184413Z
UID:13924-1775590200-1775597400@fegc.de
SUMMARY:Jugendkreis
DESCRIPTION:
URL:https://fegc.de/veranstaltung/jugendkreis-54/
CATEGORIES:Kinder-Jugend
END:VEVENT
BEGIN:VEVENT
DTSTART;TZID=Europe/Berlin:20260407T143000
DTEND;TZID=Europe/Berlin:20260407T160000
DTSTAMP:20260424T144906
CREATED:20260222T011107Z
LAST-MODIFIED:20260407T131140Z
UID:20352-1775572200-1775577600@fegc.de
SUMMARY:Cafe' 60+
DESCRIPTION:
URL:https://fegc.de/veranstaltung/cafe-60-17/
LOCATION:Mehrzweck klein\, Mehrzweck groß\, Küche\, Bistro
CATEGORIES:Sonstige Termine
END:VEVENT
BEGIN:VEVENT
DTSTART;TZID=Europe/Berlin:20260405T100000
DTEND;TZID=Europe/Berlin:20260405T112500
DTSTAMP:20260424T144906
CREATED:20251127T182613Z
LAST-MODIFIED:20260405T085617Z
UID:12245-1775383200-1775388300@fegc.de
SUMMARY:Oster-Gottesdienst mit Robert Kröger
DESCRIPTION:
URL:https://fegc.de/veranstaltung/oster-gottesdienst-mit-robert-kroeger/
LOCATION:Bus\, gr. Saal\, Kinderraum\, Bistro\, Mehrzweck klein\, Mehrzweck groß
CATEGORIES:Gottesdienst
END:VEVENT
BEGIN:VEVENT
DTSTART;TZID=Europe/Berlin:20260403T150000
DTEND;TZID=Europe/Berlin:20260403T163000
DTSTAMP:20260424T144906
CREATED:20251127T182613Z
LAST-MODIFIED:20260403T142632Z
UID:12244-1775228400-1775233800@fegc.de
SUMMARY:Karfreitag-Gottesdienst mit Abendmahl mit David Stamm
DESCRIPTION:
URL:https://fegc.de/veranstaltung/karfreitag-gottesdienst-mit-abendmahl-mit-david-stamm/
CATEGORIES:Gottesdienst
END:VEVENT
BEGIN:VEVENT
DTSTART;TZID=Europe/Berlin:20260401T193000
DTEND;TZID=Europe/Berlin:20260401T203000
DTSTAMP:20260424T144906
CREATED:20260222T011106Z
LAST-MODIFIED:20260401T182546Z
UID:20351-1775071800-1775075400@fegc.de
SUMMARY:Gebetsabend mit Robert Kröger
DESCRIPTION:
URL:https://fegc.de/veranstaltung/gebetsabend-2/
CATEGORIES:Sonstige Termine
END:VEVENT
BEGIN:VEVENT
DTSTART;TZID=Europe/Berlin:20260331T193000
DTEND;TZID=Europe/Berlin:20260331T213000
DTSTAMP:20260424T144906
CREATED:20251216T164127Z
LAST-MODIFIED:20260331T182658Z
UID:13923-1774985400-1774992600@fegc.de
SUMMARY:Jugendkreis
DESCRIPTION:
URL:https://fegc.de/veranstaltung/jugendkreis-53/
CATEGORIES:Kinder-Jugend
END:VEVENT
BEGIN:VEVENT
DTSTART;TZID=Europe/Berlin:20260329T180000
DTEND;TZID=Europe/Berlin:20260329T200000
DTSTAMP:20260424T144906
CREATED:20260324T142622Z
LAST-MODIFIED:20260329T174052Z
UID:23269-1774807200-1774814400@fegc.de
SUMMARY:Truestory
DESCRIPTION:Jugendwoche – Herzliche Einladung von 25.-29 März zu einer Woche voller Tiefgang\, Action\, Workshops\, inspirierender Impulse\, Musik\, spannender Challenges\, Interviews und vielem mehr. Seid dabei!\nUm 18 Uhr geht es jeden Tag los mit Workshops\, Essen\, Cocktails.\nUm 19 Uhr geht das Bühnenprogramm los und\nab 20 Uhr ist Lagerfeuer\, Chillout Lounge\, Party geplant.\nEs lohnt sich!
URL:https://fegc.de/veranstaltung/truestory-5/
LOCATION:Refektorium\, Klosterhof 6\, Mönchröden\, 96472\, Rödental\, DE
CATEGORIES:Kinder-Jugend
END:VEVENT
BEGIN:VEVENT
DTSTART;TZID=Europe/Berlin:20260329T100000
DTEND;TZID=Europe/Berlin:20260329T113000
DTSTAMP:20260424T144906
CREATED:20251127T182613Z
LAST-MODIFIED:20260329T092558Z
UID:12242-1774778400-1774783800@fegc.de
SUMMARY:Gottesdienst mit Robert Kröger
DESCRIPTION:
URL:https://fegc.de/veranstaltung/gottesdienst-mit-robert-kroeger-32/
CATEGORIES:Gottesdienst
END:VEVENT
BEGIN:VEVENT
DTSTART;TZID=Europe/Berlin:20260328T180000
DTEND;TZID=Europe/Berlin:20260328T200000
DTSTAMP:20260424T144906
CREATED:20260324T142622Z
LAST-MODIFIED:20260328T181050Z
UID:23268-1774720800-1774728000@fegc.de
SUMMARY:Truestory
DESCRIPTION:Jugendwoche – Herzliche Einladung von 25.-29 März zu einer Woche voller Tiefgang\, Action\, Workshops\, inspirierender Impulse\, Musik\, spannender Challenges\, Interviews und vielem mehr. Seid dabei!\nUm 18 Uhr geht es jeden Tag los mit Workshops\, Essen\, Cocktails.\nUm 19 Uhr geht das Bühnenprogramm los und\nab 20 Uhr ist Lagerfeuer\, Chillout Lounge\, Party geplant.\nEs lohnt sich!
URL:https://fegc.de/veranstaltung/truestory-4/
LOCATION:Refektorium\, Klosterhof 6\, Mönchröden\, 96472\, Rödental\, DE
CATEGORIES:Kinder-Jugend
END:VEVENT
BEGIN:VEVENT
DTSTART;TZID=Europe/Berlin:20260328T140000
DTEND;TZID=Europe/Berlin:20260328T170000
DTSTAMP:20260424T144906
CREATED:20251216T164127Z
LAST-MODIFIED:20260328T155631Z
UID:13922-1774706400-1774717200@fegc.de
SUMMARY:Indoorspielplatz Affenhaus
DESCRIPTION:Hangeln\, schaukeln\, balancieren und klettern wie es Affen nicht besser können. In unsrem ehrenamtlich geführten Indoorspielplatz Affenhaus kannst du dich richtig austoben.\nWir öffnen von Januar bis März 14-tägig\, damit du auch im Winter einen Spielplatz hast.\nKomm mit deiner ganzen Familie vorbei. Für deine Eltern stehen auch Kaffee und Kuchen bereit.\nDa unser Indoorspielplatz Affenhaus ehrenamtlich getragen und finanziert wird\, kannst du dich gerne mit deiner Spende\, an unserem Projekt beteiligen.
URL:https://fegc.de/veranstaltung/indoorspielplatz-affenhaus-20/
LOCATION:gr. Saal\, Jugendraum\, Kinderraum\, Mehrzweck klein\, Mehrzweck groß\, Bistro\, Indoorspielplatz Affenhaus\, Max-Böhme-Ring 8\, Bertelsdorfer Höhe\, 96450\, Coburg
CATEGORIES:Affenhaus,Kinder-Jugend
END:VEVENT
BEGIN:VEVENT
DTSTART;TZID=Europe/Berlin:20260327T193000
DTEND;TZID=Europe/Berlin:20260327T213000
DTSTAMP:20260424T144906
CREATED:20260222T011055Z
LAST-MODIFIED:20260327T194054Z
UID:20350-1774639800-1774647000@fegc.de
SUMMARY:Männertreff
DESCRIPTION:Thema: In die Ruhe Gottes kommen
URL:https://fegc.de/veranstaltung/maennertreff-15/
LOCATION:Mehrzweck groß\, Küche
CATEGORIES:Sonstige Termine
END:VEVENT
BEGIN:VEVENT
DTSTART;TZID=Europe/Berlin:20260327T180000
DTEND;TZID=Europe/Berlin:20260327T200000
DTSTAMP:20260424T144906
CREATED:20260324T142622Z
LAST-MODIFIED:20260327T184049Z
UID:23267-1774634400-1774641600@fegc.de
SUMMARY:Truestory
DESCRIPTION:Jugendwoche – Herzliche Einladung von 25.-29 März zu einer Woche voller Tiefgang\, Action\, Workshops\, inspirierender Impulse\, Musik\, spannender Challenges\, Interviews und vielem mehr. Seid dabei!\nUm 18 Uhr geht es jeden Tag los mit Workshops\, Essen\, Cocktails.\nUm 19 Uhr geht das Bühnenprogramm los und\nab 20 Uhr ist Lagerfeuer\, Chillout Lounge\, Party geplant.\nEs lohnt sich!
URL:https://fegc.de/veranstaltung/truestory-3/
LOCATION:Refektorium\, Klosterhof 6\, Mönchröden\, 96472\, Rödental\, DE
CATEGORIES:Kinder-Jugend
END:VEVENT
BEGIN:VEVENT
DTSTART;TZID=Europe/Berlin:20260327T160000
DTEND;TZID=Europe/Berlin:20260327T180000
DTSTAMP:20260424T144906
CREATED:20260325T132624Z
LAST-MODIFIED:20260327T162552Z
UID:23386-1774627200-1774634400@fegc.de
SUMMARY:‼️MOVE KIDS FÄLLT AUS‼️
DESCRIPTION:
URL:https://fegc.de/veranstaltung/%e2%80%bc%ef%b8%8fmove-kids-faellt-aus%e2%80%bc%ef%b8%8f/
LOCATION:gr. Saal\, Jugendraum\, Kinderraum\, Bistro\, Mehrzweck groß\, Mehrzweck klein\, Beamer\, Max-Böhme-Ring\, Bertelsdorf\, 96450\, Coburg\, de
CATEGORIES:Kinder-Jugend
END:VEVENT
BEGIN:VEVENT
DTSTART;TZID=Europe/Berlin:20260326T180000
DTEND;TZID=Europe/Berlin:20260326T200000
DTSTAMP:20260424T144906
CREATED:20260324T142621Z
LAST-MODIFIED:20260326T185632Z
UID:23266-1774548000-1774555200@fegc.de
SUMMARY:Truestory
DESCRIPTION:Jugendwoche – Herzliche Einladung von 25.-29 März zu einer Woche voller Tiefgang\, Action\, Workshops\, inspirierender Impulse\, Musik\, spannender Challenges\, Interviews und vielem mehr. Seid dabei!\nUm 18 Uhr geht es jeden Tag los mit Workshops\, Essen\, Cocktails.\nUm 19 Uhr geht das Bühnenprogramm los und\nab 20 Uhr ist Lagerfeuer\, Chillout Lounge\, Party geplant.\nEs lohnt sich!
URL:https://fegc.de/veranstaltung/truestory-2/
LOCATION:Refektorium\, Klosterhof 6\, Mönchröden\, 96472\, Rödental\, DE
CATEGORIES:Kinder-Jugend
END:VEVENT
BEGIN:VEVENT
DTSTART;TZID=Europe/Berlin:20260325T193000
DTEND;TZID=Europe/Berlin:20260325T203000
DTSTAMP:20260424T144906
CREATED:20260222T011055Z
LAST-MODIFIED:20260325T192651Z
UID:20349-1774467000-1774470600@fegc.de
SUMMARY:Bibelabend mit Robert Kröger
DESCRIPTION:
URL:https://fegc.de/veranstaltung/bibelabend-mit-robert-kroeger-5/
CATEGORIES:Sonstige Termine
END:VEVENT
BEGIN:VEVENT
DTSTART;TZID=Europe/Berlin:20260325T180000
DTEND;TZID=Europe/Berlin:20260325T200000
DTSTAMP:20260424T144906
CREATED:20260324T142621Z
LAST-MODIFIED:20260325T184106Z
UID:23264-1774461600-1774468800@fegc.de
SUMMARY:Truestory
DESCRIPTION:Jugendwoche – Herzliche Einladung von 25.-29 März zu einer Woche voller Tiefgang\, Action\, Workshops\, inspirierender Impulse\, Musik\, spannender Challenges\, Interviews und vielem mehr. Seid dabei!\nUm 18 Uhr geht es jeden Tag los mit Workshops\, Essen\, Cocktails.\nUm 19 Uhr geht das Bühnenprogramm los und\nab 20 Uhr ist Lagerfeuer\, Chillout Lounge\, Party geplant.\nEs lohnt sich!
URL:https://fegc.de/veranstaltung/truestory/
LOCATION:Refektorium\, Klosterhof 6\, Mönchröden\, 96472\, Rödental\, DE
CATEGORIES:Kinder-Jugend
END:VEVENT
BEGIN:VEVENT
DTSTART;TZID=Europe/Berlin:20260324T193000
DTEND;TZID=Europe/Berlin:20260324T213000
DTSTAMP:20260424T144906
CREATED:20251216T164126Z
LAST-MODIFIED:20260324T194059Z
UID:13920-1774380600-1774387800@fegc.de
SUMMARY:Jugendkreis
DESCRIPTION:
URL:https://fegc.de/veranstaltung/jugendkreis-52/
CATEGORIES:Kinder-Jugend
END:VEVENT
END:VCALENDAR