BEGIN:VCALENDAR
VERSION:2.0
PRODID:-//Freie evangelische Gemeinde Coburg - ECPv6.15.20//NONSGML v1.0//EN
CALSCALE:GREGORIAN
METHOD:PUBLISH
X-ORIGINAL-URL:https://fegc.de
X-WR-CALDESC:Veranstaltungen für Freie evangelische Gemeinde Coburg
REFRESH-INTERVAL;VALUE=DURATION:PT1H
X-Robots-Tag:noindex
X-PUBLISHED-TTL:PT1H
BEGIN:VTIMEZONE
TZID:Europe/Berlin
BEGIN:DAYLIGHT
TZOFFSETFROM:+0100
TZOFFSETTO:+0200
TZNAME:CEST
DTSTART:20240331T010000
END:DAYLIGHT
BEGIN:STANDARD
TZOFFSETFROM:+0200
TZOFFSETTO:+0100
TZNAME:CET
DTSTART:20241027T010000
END:STANDARD
BEGIN:DAYLIGHT
TZOFFSETFROM:+0100
TZOFFSETTO:+0200
TZNAME:CEST
DTSTART:20250330T010000
END:DAYLIGHT
BEGIN:STANDARD
TZOFFSETFROM:+0200
TZOFFSETTO:+0100
TZNAME:CET
DTSTART:20251026T010000
END:STANDARD
BEGIN:DAYLIGHT
TZOFFSETFROM:+0100
TZOFFSETTO:+0200
TZNAME:CEST
DTSTART:20260329T010000
END:DAYLIGHT
BEGIN:STANDARD
TZOFFSETFROM:+0200
TZOFFSETTO:+0100
TZNAME:CET
DTSTART:20261025T010000
END:STANDARD
END:VTIMEZONE
BEGIN:VEVENT
DTSTART;TZID=Europe/Berlin:20251001T193000
DTEND;TZID=Europe/Berlin:20251001T203000
DTSTAMP:20260424T215915
CREATED:20241221T070641Z
LAST-MODIFIED:20250312T154518Z
UID:10810-1759347000-1759350600@fegc.de
SUMMARY:Bibelabend
DESCRIPTION:
URL:https://fegc.de/veranstaltung/bibelabend-34/
CATEGORIES:Gottesdienst
END:VEVENT
BEGIN:VEVENT
DTSTART;TZID=Europe/Berlin:20251002T093000
DTEND;TZID=Europe/Berlin:20251002T103000
DTSTAMP:20260424T215915
CREATED:20250225T060604Z
LAST-MODIFIED:20250312T154550Z
UID:11923-1759397400-1759401000@fegc.de
SUMMARY:Gebetstreff
DESCRIPTION:
URL:https://fegc.de/veranstaltung/gebetstreff-50/
LOCATION:Bistro
CATEGORIES:Sonstige Termine
END:VEVENT
BEGIN:VEVENT
DTSTART;TZID=Europe/Berlin:20251003T160000
DTEND;TZID=Europe/Berlin:20251003T180000
DTSTAMP:20260424T215915
CREATED:20241122T150058Z
LAST-MODIFIED:20250312T154636Z
UID:10018-1759507200-1759514400@fegc.de
SUMMARY:Move-Kids
DESCRIPTION:7-12 Jahre – Freitags um 16 Uhr geht bei uns die Post ab. Gemeinsam wird gespielt\, gebastelt\, gesungen und auch auf Geschichten aus der Bibel gehört. Bei all dem erfahren wir\, wie sehr Gott uns liebt und gemeinsam mit uns durch das Leben gehen möchte. Jeder ist willkommen!
URL:https://fegc.de/veranstaltung/move-kids-32/
LOCATION:gr. Saal\, Mehrzweck klein\, Mehrzweck groß\, Bistro
CATEGORIES:Kinder-Jugend
END:VEVENT
BEGIN:VEVENT
DTSTART;TZID=Europe/Berlin:20251003T193000
DTEND;TZID=Europe/Berlin:20251003T220000
DTSTAMP:20260424T215915
CREATED:20241121T153824Z
LAST-MODIFIED:20250312T154655Z
UID:9785-1759519800-1759528800@fegc.de
SUMMARY:Move Up
DESCRIPTION:13-18 Jahre – Jeden Freitag Abend startet unser Move Up. Hier  kannst du chillen\, Freunde treffen und einfach eine witzige und actionreiche Zeit erleben. Vor allem aber wollen wir mit dir Jesus besser kennenlernen und erfahren\, wie spannend das Leben mit IHM ist! Du kannst jeder Zeit einfach spontan und ohne Anmeldung kommen! Wir freuen uns auf dich!
URL:https://fegc.de/veranstaltung/move-up-32/
LOCATION:Jugendraum\, Bistro\, Mehrzweck klein\, Mehrzweck groß
CATEGORIES:Kinder-Jugend
END:VEVENT
BEGIN:VEVENT
DTSTART;TZID=Europe/Berlin:20251005T100000
DTEND;TZID=Europe/Berlin:20251005T113500
DTSTAMP:20260424T215915
CREATED:20241119T043214Z
LAST-MODIFIED:20250312T154518Z
UID:9402-1759658400-1759664100@fegc.de
SUMMARY:Gottesdienst
DESCRIPTION:mit Abendmahl
URL:https://fegc.de/veranstaltung/gottesdienst-2/
LOCATION:gr. Saal\, Kinderraum\, Mehrzweck klein\, Mehrzweck groß\, Bistro\, Bus
CATEGORIES:Gottesdienst
END:VEVENT
BEGIN:VEVENT
DTSTART;TZID=Europe/Berlin:20251007T061500
DTEND;TZID=Europe/Berlin:20251007T070000
DTSTAMP:20260424T215915
CREATED:20250225T060604Z
LAST-MODIFIED:20250312T154550Z
UID:11924-1759817700-1759820400@fegc.de
SUMMARY:Morgengebet
DESCRIPTION:Wir treffen uns\, um gemeinsam zu beten. Jeder darf gerne dazustoßen
URL:https://fegc.de/veranstaltung/morgengebet-50/
LOCATION:Bistro
CATEGORIES:Sonstige Termine
END:VEVENT
BEGIN:VEVENT
DTSTART;TZID=Europe/Berlin:20251007T093000
DTEND;TZID=Europe/Berlin:20251007T110000
DTSTAMP:20260424T215915
CREATED:20250106T083645Z
LAST-MODIFIED:20250312T154655Z
UID:11221-1759829400-1759834800@fegc.de
SUMMARY:Krabbelgruppe Königskinder
DESCRIPTION:für Kinder von 0-3 Jahren und deren Eltern – Auf altersgerechte und liebevolle Weise wollen wir unseren Kleinsten mit unserer Handpuppe „Hanna“ Gott und die Welt erklären. Mit Liedern\, Fingerspielen und Basteln machen wir sie mit Gottes Liebe zu uns Menschen vertraut.\nOft kommt es auch einfach beim gemeinsamen Frühstück zu guten und ermutigenden Gesprächen. Und immer wieder haben wir viel Grund zur Freude und zum miteinander Lachen.
URL:https://fegc.de/veranstaltung/krabbelgruppe-koenigskinder-51/
LOCATION:Kinderraum\, Bistro\, Freie evangelische Gemeinde Coburg\, Max-Böhme-Ring 8\, Bertelsdorf\, 96450\, Coburg\, DE
CATEGORIES:Kinder-Jugend
END:VEVENT
BEGIN:VEVENT
DTSTART;TZID=Europe/Berlin:20251007T143000
DTEND;TZID=Europe/Berlin:20251007T160000
DTSTAMP:20260424T215915
CREATED:20250225T060617Z
LAST-MODIFIED:20250312T154550Z
UID:11925-1759847400-1759852800@fegc.de
SUMMARY:Cafe' 60+
DESCRIPTION:
URL:https://fegc.de/veranstaltung/cafe-60-13/
LOCATION:Mehrzweck klein\, Mehrzweck groß\, Küche\, Bistro
CATEGORIES:Sonstige Termine
END:VEVENT
BEGIN:VEVENT
DTSTART;TZID=Europe/Berlin:20251007T193000
DTEND;TZID=Europe/Berlin:20251007T213000
DTSTAMP:20260424T215915
CREATED:20241121T153812Z
LAST-MODIFIED:20250312T154655Z
UID:9777-1759865400-1759872600@fegc.de
SUMMARY:Jugendkreis
DESCRIPTION:ab 16 Jahre – Jeden Dienstag treffen wir uns\, um uns gemeinsam auf Gott auszurichten.\nWir schauen in die Bibel und diskutieren in lockerer Runde\, was sie uns persönlich zu sagen hat. Genauso stehen auch Lobpreis und Gebet an diesem Abend besonders im Fokus.\nSuchst du Gemeinschaft mit anderen Christen oder hast Fragen\, auf die du Antworten suchst. Dann schau doch einfach vorbei! Du kannst ohne Anmeldung einfach dazu kommen. Wir freuen uns auf dich!
URL:https://fegc.de/veranstaltung/jugendkreis-32/
LOCATION:Jugendraum\, Bistro
CATEGORIES:Kinder-Jugend
END:VEVENT
BEGIN:VEVENT
DTSTART;TZID=Europe/Berlin:20251008T193000
DTEND;TZID=Europe/Berlin:20251008T203000
DTSTAMP:20260424T215915
CREATED:20241119T043318Z
LAST-MODIFIED:20250312T154533Z
UID:9425-1759951800-1759955400@fegc.de
SUMMARY:Bibelabend
DESCRIPTION:
URL:https://fegc.de/veranstaltung/bibelabend-40/
CATEGORIES:Gottesdienst
END:VEVENT
BEGIN:VEVENT
DTSTART;TZID=Europe/Berlin:20251009T093000
DTEND;TZID=Europe/Berlin:20251009T103000
DTSTAMP:20260424T215915
CREATED:20250225T060617Z
LAST-MODIFIED:20250312T154605Z
UID:11926-1760002200-1760005800@fegc.de
SUMMARY:Gebetstreff
DESCRIPTION:
URL:https://fegc.de/veranstaltung/gebetstreff-51/
LOCATION:Bistro
CATEGORIES:Sonstige Termine
END:VEVENT
BEGIN:VEVENT
DTSTART;TZID=Europe/Berlin:20251010T160000
DTEND;TZID=Europe/Berlin:20251010T180000
DTSTAMP:20260424T215915
CREATED:20241122T150059Z
LAST-MODIFIED:20250312T154655Z
UID:10020-1760112000-1760119200@fegc.de
SUMMARY:Move-Kids
DESCRIPTION:7-12 Jahre – Freitags um 16 Uhr geht bei uns die Post ab. Gemeinsam wird gespielt\, gebastelt\, gesungen und auch auf Geschichten aus der Bibel gehört. Bei all dem erfahren wir\, wie sehr Gott uns liebt und gemeinsam mit uns durch das Leben gehen möchte. Jeder ist willkommen!
URL:https://fegc.de/veranstaltung/move-kids-33/
LOCATION:gr. Saal\, Mehrzweck klein\, Mehrzweck groß\, Bistro
CATEGORIES:Kinder-Jugend
END:VEVENT
BEGIN:VEVENT
DTSTART;TZID=Europe/Berlin:20251010T193000
DTEND;TZID=Europe/Berlin:20251010T220000
DTSTAMP:20260424T215915
CREATED:20241121T153824Z
LAST-MODIFIED:20250312T154655Z
UID:9787-1760124600-1760133600@fegc.de
SUMMARY:Move Up
DESCRIPTION:13-18 Jahre – Jeden Freitag Abend startet unser Move Up. Hier  kannst du chillen\, Freunde treffen und einfach eine witzige und actionreiche Zeit erleben. Vor allem aber wollen wir mit dir Jesus besser kennenlernen und erfahren\, wie spannend das Leben mit IHM ist! Du kannst jeder Zeit einfach spontan und ohne Anmeldung kommen! Wir freuen uns auf dich!
URL:https://fegc.de/veranstaltung/move-up-33/
LOCATION:Jugendraum\, Bistro\, Mehrzweck klein\, Mehrzweck groß
CATEGORIES:Kinder-Jugend
END:VEVENT
BEGIN:VEVENT
DTSTART;TZID=Europe/Berlin:20251012T100000
DTEND;TZID=Europe/Berlin:20251012T113000
DTSTAMP:20260424T215915
CREATED:20241119T043318Z
LAST-MODIFIED:20250312T154533Z
UID:9418-1760263200-1760268600@fegc.de
SUMMARY:Gottesdienst
DESCRIPTION:
URL:https://fegc.de/veranstaltung/gottesdienst-10/
CATEGORIES:Gottesdienst
END:VEVENT
BEGIN:VEVENT
DTSTART;TZID=Europe/Berlin:20251014T061500
DTEND;TZID=Europe/Berlin:20251014T070000
DTSTAMP:20260424T215915
CREATED:20250225T060617Z
LAST-MODIFIED:20250312T154605Z
UID:11927-1760422500-1760425200@fegc.de
SUMMARY:Morgengebet
DESCRIPTION:Wir treffen uns\, um gemeinsam zu beten. Jeder darf gerne dazustoßen
URL:https://fegc.de/veranstaltung/morgengebet-51/
LOCATION:Bistro
CATEGORIES:Sonstige Termine
END:VEVENT
BEGIN:VEVENT
DTSTART;TZID=Europe/Berlin:20251014T093000
DTEND;TZID=Europe/Berlin:20251014T110000
DTSTAMP:20260424T215915
CREATED:20250106T083701Z
LAST-MODIFIED:20250312T154655Z
UID:11222-1760434200-1760439600@fegc.de
SUMMARY:Krabbelgruppe Königskinder
DESCRIPTION:für Kinder von 0-3 Jahren und deren Eltern – Auf altersgerechte und liebevolle Weise wollen wir unseren Kleinsten mit unserer Handpuppe „Hanna“ Gott und die Welt erklären. Mit Liedern\, Fingerspielen und Basteln machen wir sie mit Gottes Liebe zu uns Menschen vertraut.\nOft kommt es auch einfach beim gemeinsamen Frühstück zu guten und ermutigenden Gesprächen. Und immer wieder haben wir viel Grund zur Freude und zum miteinander Lachen.
URL:https://fegc.de/veranstaltung/krabbelgruppe-koenigskinder-52/
LOCATION:Kinderraum\, Bistro\, Freie evangelische Gemeinde Coburg\, Max-Böhme-Ring 8\, Bertelsdorf\, 96450\, Coburg\, DE
CATEGORIES:Kinder-Jugend
END:VEVENT
BEGIN:VEVENT
DTSTART;TZID=Europe/Berlin:20251014T193000
DTEND;TZID=Europe/Berlin:20251014T213000
DTSTAMP:20260424T215915
CREATED:20241121T153812Z
LAST-MODIFIED:20250312T154655Z
UID:9778-1760470200-1760477400@fegc.de
SUMMARY:Jugendkreis
DESCRIPTION:ab 16 Jahre – Jeden Dienstag treffen wir uns\, um uns gemeinsam auf Gott auszurichten.\nWir schauen in die Bibel und diskutieren in lockerer Runde\, was sie uns persönlich zu sagen hat. Genauso stehen auch Lobpreis und Gebet an diesem Abend besonders im Fokus.\nSuchst du Gemeinschaft mit anderen Christen oder hast Fragen\, auf die du Antworten suchst. Dann schau doch einfach vorbei! Du kannst ohne Anmeldung einfach dazu kommen. Wir freuen uns auf dich!
URL:https://fegc.de/veranstaltung/jugendkreis-33/
LOCATION:Jugendraum\, Bistro
CATEGORIES:Kinder-Jugend
END:VEVENT
BEGIN:VEVENT
DTSTART;TZID=Europe/Berlin:20251015T193000
DTEND;TZID=Europe/Berlin:20251015T203000
DTSTAMP:20260424T215915
CREATED:20241119T043333Z
LAST-MODIFIED:20250312T154534Z
UID:9427-1760556600-1760560200@fegc.de
SUMMARY:Bibelabend
DESCRIPTION:
URL:https://fegc.de/veranstaltung/bibelabend-41/
CATEGORIES:Gottesdienst
END:VEVENT
BEGIN:VEVENT
DTSTART;TZID=Europe/Berlin:20251016T093000
DTEND;TZID=Europe/Berlin:20251016T103000
DTSTAMP:20260424T215915
CREATED:20250225T060617Z
LAST-MODIFIED:20250312T154605Z
UID:11928-1760607000-1760610600@fegc.de
SUMMARY:Gebetstreff
DESCRIPTION:
URL:https://fegc.de/veranstaltung/gebetstreff-52/
LOCATION:Bistro
CATEGORIES:Sonstige Termine
END:VEVENT
BEGIN:VEVENT
DTSTART;TZID=Europe/Berlin:20251017T160000
DTEND;TZID=Europe/Berlin:20251017T180000
DTSTAMP:20260424T215915
CREATED:20241122T150059Z
LAST-MODIFIED:20250312T154655Z
UID:10022-1760716800-1760724000@fegc.de
SUMMARY:Move-Kids
DESCRIPTION:7-12 Jahre – Freitags um 16 Uhr geht bei uns die Post ab. Gemeinsam wird gespielt\, gebastelt\, gesungen und auch auf Geschichten aus der Bibel gehört. Bei all dem erfahren wir\, wie sehr Gott uns liebt und gemeinsam mit uns durch das Leben gehen möchte. Jeder ist willkommen!
URL:https://fegc.de/veranstaltung/move-kids-34/
LOCATION:gr. Saal\, Mehrzweck klein\, Mehrzweck groß\, Bistro
CATEGORIES:Kinder-Jugend
END:VEVENT
BEGIN:VEVENT
DTSTART;TZID=Europe/Berlin:20251017T193000
DTEND;TZID=Europe/Berlin:20251017T220000
DTSTAMP:20260424T215915
CREATED:20241121T153836Z
LAST-MODIFIED:20250312T154655Z
UID:9789-1760729400-1760738400@fegc.de
SUMMARY:Move Up
DESCRIPTION:13-18 Jahre – Jeden Freitag Abend startet unser Move Up. Hier  kannst du chillen\, Freunde treffen und einfach eine witzige und actionreiche Zeit erleben. Vor allem aber wollen wir mit dir Jesus besser kennenlernen und erfahren\, wie spannend das Leben mit IHM ist! Du kannst jeder Zeit einfach spontan und ohne Anmeldung kommen! Wir freuen uns auf dich!
URL:https://fegc.de/veranstaltung/move-up-34/
LOCATION:Jugendraum\, Bistro\, Mehrzweck klein\, Mehrzweck groß
CATEGORIES:Kinder-Jugend
END:VEVENT
BEGIN:VEVENT
DTSTART;TZID=Europe/Berlin:20251021T061500
DTEND;TZID=Europe/Berlin:20251021T070000
DTSTAMP:20260424T215915
CREATED:20250225T060617Z
LAST-MODIFIED:20250312T154605Z
UID:11929-1761027300-1761030000@fegc.de
SUMMARY:Morgengebet
DESCRIPTION:Wir treffen uns\, um gemeinsam zu beten. Jeder darf gerne dazustoßen
URL:https://fegc.de/veranstaltung/morgengebet-52/
LOCATION:Bistro
CATEGORIES:Sonstige Termine
END:VEVENT
BEGIN:VEVENT
DTSTART;TZID=Europe/Berlin:20251021T093000
DTEND;TZID=Europe/Berlin:20251021T110000
DTSTAMP:20260424T215915
CREATED:20250106T083701Z
LAST-MODIFIED:20250312T154655Z
UID:11223-1761039000-1761044400@fegc.de
SUMMARY:Krabbelgruppe Königskinder
DESCRIPTION:für Kinder von 0-3 Jahren und deren Eltern – Auf altersgerechte und liebevolle Weise wollen wir unseren Kleinsten mit unserer Handpuppe „Hanna“ Gott und die Welt erklären. Mit Liedern\, Fingerspielen und Basteln machen wir sie mit Gottes Liebe zu uns Menschen vertraut.\nOft kommt es auch einfach beim gemeinsamen Frühstück zu guten und ermutigenden Gesprächen. Und immer wieder haben wir viel Grund zur Freude und zum miteinander Lachen.
URL:https://fegc.de/veranstaltung/krabbelgruppe-koenigskinder-53/
LOCATION:Kinderraum\, Bistro\, Freie evangelische Gemeinde Coburg\, Max-Böhme-Ring 8\, Bertelsdorf\, 96450\, Coburg\, DE
CATEGORIES:Kinder-Jugend
END:VEVENT
BEGIN:VEVENT
DTSTART;TZID=Europe/Berlin:20251021T193000
DTEND;TZID=Europe/Berlin:20251021T213000
DTSTAMP:20260424T215915
CREATED:20241225T162117Z
LAST-MODIFIED:20250312T154713Z
UID:10921-1761075000-1761082200@fegc.de
SUMMARY:Jugendkreis
DESCRIPTION:ab 16 Jahre – Jeden Dienstag treffen wir uns\, um uns gemeinsam auf Gott auszurichten.\nWir schauen in die Bibel und diskutieren in lockerer Runde\, was sie uns persönlich zu sagen hat. Genauso stehen auch Lobpreis und Gebet an diesem Abend besonders im Fokus.\nSuchst du Gemeinschaft mit anderen Christen oder hast Fragen\, auf die du Antworten suchst. Dann schau doch einfach vorbei! Du kannst ohne Anmeldung einfach dazu kommen. Wir freuen uns auf dich!
URL:https://fegc.de/veranstaltung/jugendkreis-34/
LOCATION:Jugendraum\, Bistro
CATEGORIES:Kinder-Jugend
END:VEVENT
BEGIN:VEVENT
DTSTART;TZID=Europe/Berlin:20251022T193000
DTEND;TZID=Europe/Berlin:20251022T203000
DTSTAMP:20260424T215915
CREATED:20241119T043333Z
LAST-MODIFIED:20250312T154534Z
UID:9429-1761161400-1761165000@fegc.de
SUMMARY:Bibelabend
DESCRIPTION:
URL:https://fegc.de/veranstaltung/bibelabend-42/
CATEGORIES:Gottesdienst
END:VEVENT
BEGIN:VEVENT
DTSTART;TZID=Europe/Berlin:20251023T093000
DTEND;TZID=Europe/Berlin:20251023T103000
DTSTAMP:20260424T215915
CREATED:20250225T060618Z
LAST-MODIFIED:20250312T154605Z
UID:11930-1761211800-1761215400@fegc.de
SUMMARY:Gebetstreff
DESCRIPTION:
URL:https://fegc.de/veranstaltung/gebetstreff-53/
LOCATION:Bistro
CATEGORIES:Sonstige Termine
END:VEVENT
BEGIN:VEVENT
DTSTART;TZID=Europe/Berlin:20251024T160000
DTEND;TZID=Europe/Berlin:20251024T180000
DTSTAMP:20260424T215915
CREATED:20241122T150112Z
LAST-MODIFIED:20250312T154713Z
UID:10024-1761321600-1761328800@fegc.de
SUMMARY:Move-Kids
DESCRIPTION:7-12 Jahre – Freitags um 16 Uhr geht bei uns die Post ab. Gemeinsam wird gespielt\, gebastelt\, gesungen und auch auf Geschichten aus der Bibel gehört. Bei all dem erfahren wir\, wie sehr Gott uns liebt und gemeinsam mit uns durch das Leben gehen möchte. Jeder ist willkommen!
URL:https://fegc.de/veranstaltung/move-kids-35/
LOCATION:gr. Saal\, Mehrzweck klein\, Mehrzweck groß\, Bistro
CATEGORIES:Kinder-Jugend
END:VEVENT
BEGIN:VEVENT
DTSTART;TZID=Europe/Berlin:20251024T193000
DTEND;TZID=Europe/Berlin:20251024T220000
DTSTAMP:20260424T215915
CREATED:20241121T153836Z
LAST-MODIFIED:20250312T154714Z
UID:9791-1761334200-1761343200@fegc.de
SUMMARY:Move Up
DESCRIPTION:13-18 Jahre – Jeden Freitag Abend startet unser Move Up. Hier  kannst du chillen\, Freunde treffen und einfach eine witzige und actionreiche Zeit erleben. Vor allem aber wollen wir mit dir Jesus besser kennenlernen und erfahren\, wie spannend das Leben mit IHM ist! Du kannst jeder Zeit einfach spontan und ohne Anmeldung kommen! Wir freuen uns auf dich!
URL:https://fegc.de/veranstaltung/move-up-35/
LOCATION:Jugendraum\, Bistro\, Mehrzweck klein\, Mehrzweck groß
CATEGORIES:Kinder-Jugend
END:VEVENT
BEGIN:VEVENT
DTSTART;TZID=Europe/Berlin:20251028T061500
DTEND;TZID=Europe/Berlin:20251028T070000
DTSTAMP:20260424T215915
CREATED:20250225T060618Z
LAST-MODIFIED:20250312T154605Z
UID:11931-1761632100-1761634800@fegc.de
SUMMARY:Morgengebet
DESCRIPTION:Wir treffen uns\, um gemeinsam zu beten. Jeder darf gerne dazustoßen
URL:https://fegc.de/veranstaltung/morgengebet-53/
LOCATION:Bistro
CATEGORIES:Sonstige Termine
END:VEVENT
BEGIN:VEVENT
DTSTART;TZID=Europe/Berlin:20251028T093000
DTEND;TZID=Europe/Berlin:20251028T110000
DTSTAMP:20260424T215915
CREATED:20250106T083717Z
LAST-MODIFIED:20250312T154714Z
UID:11224-1761643800-1761649200@fegc.de
SUMMARY:Krabbelgruppe Königskinder
DESCRIPTION:für Kinder von 0-3 Jahren und deren Eltern – Auf altersgerechte und liebevolle Weise wollen wir unseren Kleinsten mit unserer Handpuppe „Hanna“ Gott und die Welt erklären. Mit Liedern\, Fingerspielen und Basteln machen wir sie mit Gottes Liebe zu uns Menschen vertraut.\nOft kommt es auch einfach beim gemeinsamen Frühstück zu guten und ermutigenden Gesprächen. Und immer wieder haben wir viel Grund zur Freude und zum miteinander Lachen.
URL:https://fegc.de/veranstaltung/krabbelgruppe-koenigskinder-54/
LOCATION:Kinderraum\, Bistro\, Freie evangelische Gemeinde Coburg\, Max-Böhme-Ring 8\, Bertelsdorf\, 96450\, Coburg\, DE
CATEGORIES:Kinder-Jugend
END:VEVENT
END:VCALENDAR