BEGIN:VCALENDAR
VERSION:2.0
PRODID:-//Freie evangelische Gemeinde Coburg - ECPv6.15.20//NONSGML v1.0//EN
CALSCALE:GREGORIAN
METHOD:PUBLISH
X-ORIGINAL-URL:https://fegc.de
X-WR-CALDESC:Veranstaltungen für Freie evangelische Gemeinde Coburg
REFRESH-INTERVAL;VALUE=DURATION:PT1H
X-Robots-Tag:noindex
X-PUBLISHED-TTL:PT1H
BEGIN:VTIMEZONE
TZID:Europe/Berlin
BEGIN:DAYLIGHT
TZOFFSETFROM:+0100
TZOFFSETTO:+0200
TZNAME:CEST
DTSTART:20240331T010000
END:DAYLIGHT
BEGIN:STANDARD
TZOFFSETFROM:+0200
TZOFFSETTO:+0100
TZNAME:CET
DTSTART:20241027T010000
END:STANDARD
BEGIN:DAYLIGHT
TZOFFSETFROM:+0100
TZOFFSETTO:+0200
TZNAME:CEST
DTSTART:20250330T010000
END:DAYLIGHT
BEGIN:STANDARD
TZOFFSETFROM:+0200
TZOFFSETTO:+0100
TZNAME:CET
DTSTART:20251026T010000
END:STANDARD
BEGIN:DAYLIGHT
TZOFFSETFROM:+0100
TZOFFSETTO:+0200
TZNAME:CEST
DTSTART:20260329T010000
END:DAYLIGHT
BEGIN:STANDARD
TZOFFSETFROM:+0200
TZOFFSETTO:+0100
TZNAME:CET
DTSTART:20261025T010000
END:STANDARD
END:VTIMEZONE
BEGIN:VEVENT
DTSTART;TZID=Europe/Berlin:20251203T193000
DTEND;TZID=Europe/Berlin:20251203T203000
DTSTAMP:20260424T191650
CREATED:20241119T043334Z
LAST-MODIFIED:20251202T184048Z
UID:9435-1764790200-1764793800@fegc.de
SUMMARY:Bibelabend
DESCRIPTION:
URL:https://fegc.de/veranstaltung/bibelabend-45/
CATEGORIES:Gottesdienst
END:VEVENT
BEGIN:VEVENT
DTSTART;TZID=Europe/Berlin:20251205T160000
DTEND;TZID=Europe/Berlin:20251205T180000
DTSTAMP:20260424T191650
CREATED:20251204T155054Z
LAST-MODIFIED:20251205T162549Z
UID:12505-1764950400-1764957600@fegc.de
SUMMARY:Move-Kids
DESCRIPTION:6-12 Jahre – Freitags um 16 Uhr geht bei uns die Post ab. Gemeinsam wird gespielt\, gebastelt\, gesungen und auch auf Geschichten aus der Bibel gehört. Bei all dem erfahren wir\, wie sehr Gott uns liebt und gemeinsam mit uns durch das Leben gehen möchte. Jeder ist willkommen!
URL:https://fegc.de/veranstaltung/move-kids-39/
LOCATION:gr. Saal\, Mehrzweck klein\, Mehrzweck groß\, Bistro
CATEGORIES:Kinder-Jugend
END:VEVENT
BEGIN:VEVENT
DTSTART;TZID=Europe/Berlin:20251205T193000
DTEND;TZID=Europe/Berlin:20251205T220000
DTSTAMP:20260424T191650
CREATED:20241121T153836Z
LAST-MODIFIED:20251205T195600Z
UID:9798-1764963000-1764972000@fegc.de
SUMMARY:Move Up
DESCRIPTION:13-18 Jahre – Jeden Freitag Abend startet unser Move Up. Hier  kannst du chillen\, Freunde treffen und einfach eine witzige und actionreiche Zeit erleben. Vor allem aber wollen wir mit dir Jesus besser kennenlernen und erfahren\, wie spannend das Leben mit IHM ist! Du kannst jeder Zeit einfach spontan und ohne Anmeldung kommen! Wir freuen uns auf dich!
URL:https://fegc.de/veranstaltung/move-up-38/
LOCATION:Jugendraum\, Bistro\, Mehrzweck klein\, Mehrzweck groß
CATEGORIES:Kinder-Jugend
END:VEVENT
BEGIN:VEVENT
DTSTART;TZID=Europe/Berlin:20251207T100000
DTEND;TZID=Europe/Berlin:20251207T113500
DTSTAMP:20260424T191650
CREATED:20241119T043148Z
LAST-MODIFIED:20251207T101154Z
UID:9384-1765101600-1765107300@fegc.de
SUMMARY:Gottesdienst mit David Stamm
DESCRIPTION:mit Abendmahl
URL:https://fegc.de/veranstaltung/gottesdienst-mit-klaus-hampel/
LOCATION:gr. Saal\, Kinderraum\, Mehrzweck klein\, Mehrzweck groß\, Bistro\, Bus
CATEGORIES:Gottesdienst
END:VEVENT
BEGIN:VEVENT
DTSTART;TZID=Europe/Berlin:20251209T061500
DTEND;TZID=Europe/Berlin:20251209T070000
DTSTAMP:20260424T191650
CREATED:20251204T154754Z
LAST-MODIFIED:20251209T055544Z
UID:12405-1765260900-1765263600@fegc.de
SUMMARY:Morgengebet
DESCRIPTION:Wir treffen uns\, um gemeinsam zu beten. Jeder darf gerne dazustoßen
URL:https://fegc.de/veranstaltung/morgengebet-58/
LOCATION:Bistro
CATEGORIES:Sonstige Termine
END:VEVENT
BEGIN:VEVENT
DTSTART;TZID=Europe/Berlin:20251209T093000
DTEND;TZID=Europe/Berlin:20251209T110000
DTSTAMP:20260424T191650
CREATED:20251204T155054Z
LAST-MODIFIED:20251209T092544Z
UID:12506-1765272600-1765278000@fegc.de
SUMMARY:Krabbelgruppe Königskinder
DESCRIPTION:für Kinder von 0-3 Jahren und deren Eltern – Auf altersgerechte und liebevolle Weise wollen wir unseren Kleinsten mit unserer Handpuppe „Hanna“ Gott und die Welt erklären. Mit Liedern\, Fingerspielen und Basteln machen wir sie mit Gottes Liebe zu uns Menschen vertraut.\nOft kommt es auch einfach beim gemeinsamen Frühstück zu guten und ermutigenden Gesprächen. Und immer wieder haben wir viel Grund zur Freude und zum miteinander Lachen.
URL:https://fegc.de/veranstaltung/krabbelgruppe-koenigskinder-59/
LOCATION:Kinderraum\, Bistro\, Freie evangelische Gemeinde Coburg\, Max-Böhme-Ring 8\, Bertelsdorf\, 96450\, Coburg\, DE
CATEGORIES:Kinder-Jugend
END:VEVENT
BEGIN:VEVENT
DTSTART;TZID=Europe/Berlin:20251209T190000
DTEND;TZID=Europe/Berlin:20251209T213000
DTSTAMP:20260424T191650
CREATED:20251204T154754Z
LAST-MODIFIED:20251209T171050Z
UID:12406-1765306800-1765315800@fegc.de
SUMMARY:Handarbeitstreff
DESCRIPTION:
URL:https://fegc.de/veranstaltung/handarbeitstreff-4/
CATEGORIES:Sonstige Termine
END:VEVENT
BEGIN:VEVENT
DTSTART;TZID=Europe/Berlin:20251209T193000
DTEND;TZID=Europe/Berlin:20251209T213000
DTSTAMP:20260424T191650
CREATED:20251204T155055Z
LAST-MODIFIED:20251209T171049Z
UID:12507-1765308600-1765315800@fegc.de
SUMMARY:Jugendkreis
DESCRIPTION:ab 16 Jahre – Jeden Dienstag treffen wir uns\, um uns gemeinsam auf Gott auszurichten.\nWir schauen in die Bibel und diskutieren in lockerer Runde\, was sie uns persönlich zu sagen hat. Genauso stehen auch Lobpreis und Gebet an diesem Abend besonders im Fokus.\nSuchst du Gemeinschaft mit anderen Christen oder hast Fragen\, auf die du Antworten suchst. Dann schau doch einfach vorbei! Du kannst ohne Anmeldung einfach dazu kommen. Wir freuen uns auf dich!
URL:https://fegc.de/veranstaltung/jugendkreis-40/
LOCATION:Jugendraum\, Bistro
CATEGORIES:Kinder-Jugend
END:VEVENT
BEGIN:VEVENT
DTSTART;TZID=Europe/Berlin:20251211T093000
DTEND;TZID=Europe/Berlin:20251211T103000
DTSTAMP:20260424T191650
CREATED:20251204T154754Z
LAST-MODIFIED:20251211T085602Z
UID:12407-1765445400-1765449000@fegc.de
SUMMARY:Gebetstreff
DESCRIPTION:
URL:https://fegc.de/veranstaltung/gebetstreff-59/
LOCATION:Bistro
CATEGORIES:Sonstige Termine
END:VEVENT
BEGIN:VEVENT
DTSTART;TZID=Europe/Berlin:20251212T160000
DTEND;TZID=Europe/Berlin:20251212T180000
DTSTAMP:20260424T191650
CREATED:20251204T155055Z
LAST-MODIFIED:20251212T161049Z
UID:12508-1765555200-1765562400@fegc.de
SUMMARY:Move-Kids
DESCRIPTION:6-12 Jahre – Freitags um 16 Uhr geht bei uns die Post ab. Gemeinsam wird gespielt\, gebastelt\, gesungen und auch auf Geschichten aus der Bibel gehört. Bei all dem erfahren wir\, wie sehr Gott uns liebt und gemeinsam mit uns durch das Leben gehen möchte. Jeder ist willkommen!
URL:https://fegc.de/veranstaltung/move-kids-40/
LOCATION:gr. Saal\, Mehrzweck klein\, Mehrzweck groß\, Bistro
CATEGORIES:Kinder-Jugend
END:VEVENT
BEGIN:VEVENT
DTSTART;TZID=Europe/Berlin:20251212T193000
DTEND;TZID=Europe/Berlin:20251212T220000
DTSTAMP:20260424T191650
CREATED:20251204T155055Z
LAST-MODIFIED:20251212T202600Z
UID:12509-1765567800-1765576800@fegc.de
SUMMARY:Move Up
DESCRIPTION:13-18 Jahre – Jeden Freitag Abend startet unser Move Up. Hier  kannst du chillen\, Freunde treffen und einfach eine witzige und actionreiche Zeit erleben. Vor allem aber wollen wir mit dir Jesus besser kennenlernen und erfahren\, wie spannend das Leben mit IHM ist! Du kannst jeder Zeit einfach spontan und ohne Anmeldung kommen! Wir freuen uns auf dich!
URL:https://fegc.de/veranstaltung/move-up-39/
LOCATION:Jugendraum\, Bistro\, Mehrzweck klein\, Mehrzweck groß
CATEGORIES:Kinder-Jugend
END:VEVENT
BEGIN:VEVENT
DTSTART;TZID=Europe/Berlin:20251214T100000
DTEND;TZID=Europe/Berlin:20251214T113000
DTSTAMP:20260424T191650
CREATED:20241119T043318Z
LAST-MODIFIED:20251214T102733Z
UID:9424-1765706400-1765711800@fegc.de
SUMMARY:Gottesdienst mit Robert Kröger
DESCRIPTION:
URL:https://fegc.de/veranstaltung/gottesdienst-13/
CATEGORIES:Gottesdienst
END:VEVENT
BEGIN:VEVENT
DTSTART;TZID=Europe/Berlin:20251216T061500
DTEND;TZID=Europe/Berlin:20251216T070000
DTSTAMP:20260424T191650
CREATED:20251204T154754Z
LAST-MODIFIED:20251216T045659Z
UID:12408-1765865700-1765868400@fegc.de
SUMMARY:Morgengebet
DESCRIPTION:Wir treffen uns\, um gemeinsam zu beten. Jeder darf gerne dazustoßen
URL:https://fegc.de/veranstaltung/morgengebet-59/
LOCATION:Bistro
CATEGORIES:Sonstige Termine
END:VEVENT
BEGIN:VEVENT
DTSTART;TZID=Europe/Berlin:20251216T093000
DTEND;TZID=Europe/Berlin:20251216T110000
DTSTAMP:20260424T191650
CREATED:20251204T155055Z
LAST-MODIFIED:20251216T085625Z
UID:12510-1765877400-1765882800@fegc.de
SUMMARY:Krabbelgruppe Königskinder
DESCRIPTION:für Kinder von 0-3 Jahren und deren Eltern – Auf altersgerechte und liebevolle Weise wollen wir unseren Kleinsten mit unserer Handpuppe „Hanna“ Gott und die Welt erklären. Mit Liedern\, Fingerspielen und Basteln machen wir sie mit Gottes Liebe zu uns Menschen vertraut.\nOft kommt es auch einfach beim gemeinsamen Frühstück zu guten und ermutigenden Gesprächen. Und immer wieder haben wir viel Grund zur Freude und zum miteinander Lachen.
URL:https://fegc.de/veranstaltung/krabbelgruppe-koenigskinder-60/
LOCATION:Kinderraum\, Bistro\, Freie evangelische Gemeinde Coburg\, Max-Böhme-Ring 8\, Bertelsdorf\, 96450\, Coburg\, DE
CATEGORIES:Kinder-Jugend
END:VEVENT
BEGIN:VEVENT
DTSTART;TZID=Europe/Berlin:20251216T190000
DTEND;TZID=Europe/Berlin:20251216T213000
DTSTAMP:20260424T191650
CREATED:20251216T164044Z
LAST-MODIFIED:20251216T194057Z
UID:13887-1765911600-1765920600@fegc.de
SUMMARY:Jugendkreis Weihnachtsfeier
DESCRIPTION:ab 16 Jahre – Wir haben wieder unsere legendäre Racletteweihnachtsfeier. Für Infos einfach bei David Stamm melden: 015156919975
URL:https://fegc.de/veranstaltung/jugendkreis-weihnachtsfeier/
LOCATION:Jugendraum\, Bistro\, Mehrzweck klein\, Mehrzweck groß\, Küche
CATEGORIES:Kinder-Jugend
END:VEVENT
BEGIN:VEVENT
DTSTART;TZID=Europe/Berlin:20251217T193000
DTEND;TZID=Europe/Berlin:20251217T203000
DTSTAMP:20260424T191650
CREATED:20241119T043347Z
LAST-MODIFIED:20251217T191043Z
UID:9439-1765999800-1766003400@fegc.de
SUMMARY:Bibelabend
DESCRIPTION:
URL:https://fegc.de/veranstaltung/bibelabend-47/
CATEGORIES:Gottesdienst
END:VEVENT
BEGIN:VEVENT
DTSTART;TZID=Europe/Berlin:20251218T093000
DTEND;TZID=Europe/Berlin:20251218T103000
DTSTAMP:20260424T191650
CREATED:20251204T154755Z
LAST-MODIFIED:20251218T085643Z
UID:12409-1766050200-1766053800@fegc.de
SUMMARY:Gebetstreff
DESCRIPTION:
URL:https://fegc.de/veranstaltung/gebetstreff-60/
LOCATION:Bistro
CATEGORIES:Sonstige Termine
END:VEVENT
BEGIN:VEVENT
DTSTART;TZID=Europe/Berlin:20251219T160000
DTEND;TZID=Europe/Berlin:20251219T180000
DTSTAMP:20260424T191650
CREATED:20251216T164045Z
LAST-MODIFIED:20251219T165546Z
UID:13888-1766160000-1766167200@fegc.de
SUMMARY:Move-Kids Weihnachtsspecial
DESCRIPTION:6-12 Jahre – Freitags um 16 Uhr geht bei uns die Post ab. Gemeinsam wird gespielt\, gebastelt\, gesungen und auch auf Geschichten aus der Bibel gehört. Bei all dem erfahren wir\, wie sehr Gott uns liebt und gemeinsam mit uns durch das Leben gehen möchte. Jeder ist willkommen!
URL:https://fegc.de/veranstaltung/move-kids-weihnachtsspecial/
LOCATION:gr. Saal\, Mehrzweck klein\, Mehrzweck groß\, Bistro\, Küche
CATEGORIES:Kinder-Jugend
END:VEVENT
BEGIN:VEVENT
DTSTART;TZID=Europe/Berlin:20251219T193000
DTEND;TZID=Europe/Berlin:20251219T220000
DTSTAMP:20260424T191650
CREATED:20251216T164045Z
LAST-MODIFIED:20251219T204042Z
UID:13889-1766172600-1766181600@fegc.de
SUMMARY:Move Up
DESCRIPTION:13-18 Jahre – Jeden Freitag Abend startet unser Move Up. Hier  kannst du chillen\, Freunde treffen und einfach eine witzige und actionreiche Zeit erleben. Vor allem aber wollen wir mit dir Jesus besser kennenlernen und erfahren\, wie spannend das Leben mit IHM ist! Du kannst jeder Zeit einfach spontan und ohne Anmeldung kommen! Wir freuen uns auf dich!
URL:https://fegc.de/veranstaltung/move-up-40/
LOCATION:Jugendraum\, Bistro\, Mehrzweck klein\, Mehrzweck groß
CATEGORIES:Kinder-Jugend
END:VEVENT
BEGIN:VEVENT
DTSTART;TZID=Europe/Berlin:20251220T190000
DTEND;TZID=Europe/Berlin:20251220T210000
DTSTAMP:20260424T191650
CREATED:20251204T154755Z
LAST-MODIFIED:20251220T191047Z
UID:12411-1766257200-1766264400@fegc.de
SUMMARY:Benefizkonzert - Everland
DESCRIPTION:„Il Libro dell’Amore“ – Ein Abend wie ein aufgeschlagenes Buch voller Liebe – Geschichten\, die durch Musik lebendig werden. Mit einem Ensemble aus vier Männern des Landestheaters Coburg Opernchors und der Pianistin Mina Kim entfaltet sich von berührendem Pop über mitreißendes Musical und zauberhafte Filmmusik bis hin zu festlichen Weihnachtsklängen eine bunte Sammlung voller Emotionen. Eine liebevolle Reise durch die vielen Facetten der Liebe\, die uns alle verbindet.
URL:https://fegc.de/veranstaltung/benefizkonzert-everland/
LOCATION:gr. Saal\, Bistro
CATEGORIES:Sonstige Termine
END:VEVENT
BEGIN:VEVENT
DTSTART;TZID=Europe/Berlin:20251221T100000
DTEND;TZID=Europe/Berlin:20251221T113000
DTSTAMP:20260424T191650
CREATED:20241119T043318Z
LAST-MODIFIED:20251221T102853Z
UID:9426-1766311200-1766316600@fegc.de
SUMMARY:Gottesdienst mit Dennis Ortmann
DESCRIPTION:
URL:https://fegc.de/veranstaltung/gottesdienst-14/
CATEGORIES:Gottesdienst
END:VEVENT
BEGIN:VEVENT
DTSTART;TZID=Europe/Berlin:20251223T061500
DTEND;TZID=Europe/Berlin:20251223T070000
DTSTAMP:20260424T191650
CREATED:20251204T154755Z
LAST-MODIFIED:20251223T051056Z
UID:12412-1766470500-1766473200@fegc.de
SUMMARY:Morgengebet
DESCRIPTION:Wir treffen uns\, um gemeinsam zu beten. Jeder darf gerne dazustoßen
URL:https://fegc.de/veranstaltung/morgengebet-60/
LOCATION:Bistro
CATEGORIES:Sonstige Termine
END:VEVENT
BEGIN:VEVENT
DTSTART;TZID=Europe/Berlin:20251223T093000
DTEND;TZID=Europe/Berlin:20251223T110000
DTSTAMP:20260424T191650
CREATED:20251216T164045Z
LAST-MODIFIED:20251223T091053Z
UID:13890-1766482200-1766487600@fegc.de
SUMMARY:Krabbelgruppe Königskinder
DESCRIPTION:für Kinder von 0-3 Jahren und deren Eltern – Auf altersgerechte und liebevolle Weise wollen wir unseren Kleinsten mit unserer Handpuppe „Hanna“ Gott und die Welt erklären. Mit Liedern\, Fingerspielen und Basteln machen wir sie mit Gottes Liebe zu uns Menschen vertraut.\nOft kommt es auch einfach beim gemeinsamen Frühstück zu guten und ermutigenden Gesprächen. Und immer wieder haben wir viel Grund zur Freude und zum miteinander Lachen.
URL:https://fegc.de/veranstaltung/krabbelgruppe-koenigskinder-61/
LOCATION:Kinderraum\, Bistro\, Freie evangelische Gemeinde Coburg\, Max-Böhme-Ring 8\, Bertelsdorf\, 96450\, Coburg\, DE
CATEGORIES:Kinder-Jugend
END:VEVENT
BEGIN:VEVENT
DTSTART;TZID=Europe/Berlin:20251224T160000
DTEND;TZID=Europe/Berlin:20251224T173000
DTSTAMP:20260424T191650
CREATED:20241119T043401Z
LAST-MODIFIED:20251224T162552Z
UID:9451-1766592000-1766597400@fegc.de
SUMMARY:Gottesdienst mit David Stamm
DESCRIPTION:
URL:https://fegc.de/veranstaltung/gottesdienst-27/
CATEGORIES:Gottesdienst
END:VEVENT
BEGIN:VEVENT
DTSTART;TZID=Europe/Berlin:20251224T193000
DTEND;TZID=Europe/Berlin:20251224T203000
DTSTAMP:20260424T191650
CREATED:20241119T043348Z
LAST-MODIFIED:20251224T191054Z
UID:9441-1766604600-1766608200@fegc.de
SUMMARY:Bibelabend
DESCRIPTION:
URL:https://fegc.de/veranstaltung/bibelabend-48/
CATEGORIES:Gottesdienst
END:VEVENT
BEGIN:VEVENT
DTSTART;TZID=Europe/Berlin:20251225T093000
DTEND;TZID=Europe/Berlin:20251225T103000
DTSTAMP:20260424T191650
CREATED:20251204T154755Z
LAST-MODIFIED:20251225T084047Z
UID:12413-1766655000-1766658600@fegc.de
SUMMARY:Gebetstreff
DESCRIPTION:
URL:https://fegc.de/veranstaltung/gebetstreff-61/
LOCATION:Bistro
CATEGORIES:Sonstige Termine
END:VEVENT
BEGIN:VEVENT
DTSTART;TZID=Europe/Berlin:20251226T100000
DTEND;TZID=Europe/Berlin:20251226T113000
DTSTAMP:20260424T191650
CREATED:20251127T175555Z
LAST-MODIFIED:20251226T101042Z
UID:12224-1766743200-1766748600@fegc.de
SUMMARY:Gottesdienst am 2. Weihnachtsfeiertag mit Robert Kröger
DESCRIPTION:
URL:https://fegc.de/veranstaltung/gottesdienst-am-2-weihnachtsfeiertag-mit-robert-kroeger/
CATEGORIES:Gottesdienst
END:VEVENT
BEGIN:VEVENT
DTSTART;TZID=Europe/Berlin:20251228T100000
DTEND;TZID=Europe/Berlin:20251228T113000
DTSTAMP:20260424T191650
CREATED:20241119T043333Z
LAST-MODIFIED:20251228T095603Z
UID:9430-1766916000-1766921400@fegc.de
SUMMARY:Gottesdienst mit Robert Kröger
DESCRIPTION:
URL:https://fegc.de/veranstaltung/gottesdienst-16/
CATEGORIES:Gottesdienst
END:VEVENT
BEGIN:VEVENT
DTSTART;TZID=Europe/Berlin:20251230T061500
DTEND;TZID=Europe/Berlin:20251230T070000
DTSTAMP:20260424T191650
CREATED:20251204T154755Z
LAST-MODIFIED:20251230T055556Z
UID:12414-1767075300-1767078000@fegc.de
SUMMARY:Morgengebet
DESCRIPTION:Wir treffen uns\, um gemeinsam zu beten. Jeder darf gerne dazustoßen
URL:https://fegc.de/veranstaltung/morgengebet-61/
LOCATION:Bistro
CATEGORIES:Sonstige Termine
END:VEVENT
BEGIN:VEVENT
DTSTART;TZID=Europe/Berlin:20251230T093000
DTEND;TZID=Europe/Berlin:20251230T110000
DTSTAMP:20260424T191650
CREATED:20251216T164045Z
LAST-MODIFIED:20251230T094108Z
UID:13891-1767087000-1767092400@fegc.de
SUMMARY:Krabbelgruppe Königskinder
DESCRIPTION:für Kinder von 0-3 Jahren und deren Eltern – Auf altersgerechte und liebevolle Weise wollen wir unseren Kleinsten mit unserer Handpuppe „Hanna“ Gott und die Welt erklären. Mit Liedern\, Fingerspielen und Basteln machen wir sie mit Gottes Liebe zu uns Menschen vertraut.\nOft kommt es auch einfach beim gemeinsamen Frühstück zu guten und ermutigenden Gesprächen. Und immer wieder haben wir viel Grund zur Freude und zum miteinander Lachen.
URL:https://fegc.de/veranstaltung/krabbelgruppe-koenigskinder-62/
LOCATION:Kinderraum\, Bistro\, Freie evangelische Gemeinde Coburg\, Max-Böhme-Ring 8\, Bertelsdorf\, 96450\, Coburg\, DE
CATEGORIES:Kinder-Jugend
END:VEVENT
END:VCALENDAR