BEGIN:VCALENDAR
VERSION:2.0
PRODID:-//Freie evangelische Gemeinde Coburg - ECPv6.15.20//NONSGML v1.0//EN
CALSCALE:GREGORIAN
METHOD:PUBLISH
X-WR-CALNAME:Freie evangelische Gemeinde Coburg
X-ORIGINAL-URL:https://fegc.de
X-WR-CALDESC:Veranstaltungen für Freie evangelische Gemeinde Coburg
REFRESH-INTERVAL;VALUE=DURATION:PT1H
X-Robots-Tag:noindex
X-PUBLISHED-TTL:PT1H
BEGIN:VTIMEZONE
TZID:Europe/Berlin
BEGIN:DAYLIGHT
TZOFFSETFROM:+0100
TZOFFSETTO:+0200
TZNAME:CEST
DTSTART:20250330T010000
END:DAYLIGHT
BEGIN:STANDARD
TZOFFSETFROM:+0200
TZOFFSETTO:+0100
TZNAME:CET
DTSTART:20251026T010000
END:STANDARD
BEGIN:DAYLIGHT
TZOFFSETFROM:+0100
TZOFFSETTO:+0200
TZNAME:CEST
DTSTART:20260329T010000
END:DAYLIGHT
BEGIN:STANDARD
TZOFFSETFROM:+0200
TZOFFSETTO:+0100
TZNAME:CET
DTSTART:20261025T010000
END:STANDARD
BEGIN:DAYLIGHT
TZOFFSETFROM:+0100
TZOFFSETTO:+0200
TZNAME:CEST
DTSTART:20270328T010000
END:DAYLIGHT
BEGIN:STANDARD
TZOFFSETFROM:+0200
TZOFFSETTO:+0100
TZNAME:CET
DTSTART:20271031T010000
END:STANDARD
END:VTIMEZONE
BEGIN:VEVENT
DTSTART;TZID=Europe/Berlin:20260104T100000
DTEND;TZID=Europe/Berlin:20260104T113000
DTSTAMP:20260424T175115
CREATED:20251127T182558Z
LAST-MODIFIED:20260104T101140Z
UID:12231-1767520800-1767526200@fegc.de
SUMMARY:Gottesdienst mit Thomas Depner (von ETHNOS-360)
DESCRIPTION:Aussendungsgottesdienst Elke Schaller
URL:https://fegc.de/veranstaltung/gottesdienst-mit-thomas-depner-von-ethnos-360/
CATEGORIES:Gottesdienst
END:VEVENT
BEGIN:VEVENT
DTSTART;TZID=Europe/Berlin:20260106T193000
DTEND;TZID=Europe/Berlin:20260106T213000
DTSTAMP:20260424T175115
CREATED:20251216T164045Z
LAST-MODIFIED:20260106T194108Z
UID:13892-1767727800-1767735000@fegc.de
SUMMARY:Jugendkreis
DESCRIPTION:
URL:https://fegc.de/veranstaltung/jugendkreis-41/
CATEGORIES:Kinder-Jugend
END:VEVENT
BEGIN:VEVENT
DTSTART;TZID=Europe/Berlin:20260107T193000
DTEND;TZID=Europe/Berlin:20260107T203000
DTSTAMP:20260424T175115
CREATED:20251205T104045Z
LAST-MODIFIED:20260107T191235Z
UID:12881-1767814200-1767817800@fegc.de
SUMMARY:Gebetsabend mit Matthias Böhm
DESCRIPTION:
URL:https://fegc.de/veranstaltung/gebetsabend-mit-manuel-weiss/
CATEGORIES:Sonstige Termine
END:VEVENT
BEGIN:VEVENT
DTSTART;TZID=Europe/Berlin:20260109T193000
DTEND;TZID=Europe/Berlin:20260109T220000
DTSTAMP:20260424T175115
CREATED:20251216T164045Z
LAST-MODIFIED:20260109T201116Z
UID:13893-1767987000-1767996000@fegc.de
SUMMARY:Move Up
DESCRIPTION:13-18 Jahre – Jeden Freitag Abend startet unser Move Up. Hier  kannst du chillen\, Freunde treffen und einfach eine witzige und actionreiche Zeit erleben. Vor allem aber wollen wir mit dir Jesus besser kennenlernen und erfahren\, wie spannend das Leben mit IHM ist! Du kannst jeder Zeit einfach spontan und ohne Anmeldung kommen! Wir freuen uns auf dich!
URL:https://fegc.de/veranstaltung/move-up-41/
LOCATION:Jugendraum\, Bistro\, Mehrzweck klein\, Mehrzweck groß
CATEGORIES:Kinder-Jugend
END:VEVENT
BEGIN:VEVENT
DTSTART;TZID=Europe/Berlin:20260111T100000
DTEND;TZID=Europe/Berlin:20260111T113000
DTSTAMP:20260424T175115
CREATED:20251127T182559Z
LAST-MODIFIED:20260111T101124Z
UID:12232-1768125600-1768131000@fegc.de
SUMMARY:Gottesdienst mit Raimund Puy
DESCRIPTION:
URL:https://fegc.de/veranstaltung/gottesdienst-mit-raimund-puy/
CATEGORIES:Gottesdienst
END:VEVENT
BEGIN:VEVENT
DTSTART;TZID=Europe/Berlin:20260113T190000
DTEND;TZID=Europe/Berlin:20260113T213000
DTSTAMP:20260424T175115
CREATED:20251204T154807Z
LAST-MODIFIED:20260113T202608Z
UID:12416-1768330800-1768339800@fegc.de
SUMMARY:Handarbeitstreff
DESCRIPTION:
URL:https://fegc.de/veranstaltung/handarbeitstreff-5/
CATEGORIES:Sonstige Termine
END:VEVENT
BEGIN:VEVENT
DTSTART;TZID=Europe/Berlin:20260113T193000
DTEND;TZID=Europe/Berlin:20260113T213000
DTSTAMP:20260424T175115
CREATED:20251216T164045Z
LAST-MODIFIED:20260113T194103Z
UID:13894-1768332600-1768339800@fegc.de
SUMMARY:Jugendkreis
DESCRIPTION:
URL:https://fegc.de/veranstaltung/jugendkreis-42/
CATEGORIES:Kinder-Jugend
END:VEVENT
BEGIN:VEVENT
DTSTART;TZID=Europe/Berlin:20260114T193000
DTEND;TZID=Europe/Berlin:20260114T203000
DTSTAMP:20260424T175115
CREATED:20251204T154807Z
LAST-MODIFIED:20260114T192545Z
UID:12418-1768419000-1768422600@fegc.de
SUMMARY:Allianz-Gebetsabend
DESCRIPTION:
URL:https://fegc.de/veranstaltung/allianz-gebetsabend-2/
LOCATION:Beamer\, Mehrzweck klein\, Mehrzweck groß\, Bistro
CATEGORIES:Sonstige Termine
END:VEVENT
BEGIN:VEVENT
DTSTART;TZID=Europe/Berlin:20260116T193000
DTEND;TZID=Europe/Berlin:20260116T220000
DTSTAMP:20260424T175115
CREATED:20251216T164045Z
LAST-MODIFIED:20260116T205644Z
UID:13895-1768591800-1768600800@fegc.de
SUMMARY:Move Up
DESCRIPTION:13-18 Jahre – Jeden Freitag Abend startet unser Move Up. Hier  kannst du chillen\, Freunde treffen und einfach eine witzige und actionreiche Zeit erleben. Vor allem aber wollen wir mit dir Jesus besser kennenlernen und erfahren\, wie spannend das Leben mit IHM ist! Du kannst jeder Zeit einfach spontan und ohne Anmeldung kommen! Wir freuen uns auf dich!
URL:https://fegc.de/veranstaltung/move-up-42/
LOCATION:Jugendraum\, Bistro\, Mehrzweck klein\, Mehrzweck groß
CATEGORIES:Kinder-Jugend
END:VEVENT
BEGIN:VEVENT
DTSTART;TZID=Europe/Berlin:20260117T140000
DTEND;TZID=Europe/Berlin:20260117T170000
DTSTAMP:20260424T175115
CREATED:20251216T164045Z
LAST-MODIFIED:20260117T155611Z
UID:13896-1768658400-1768669200@fegc.de
SUMMARY:Indoorspielplatz Affenhaus
DESCRIPTION:Hangeln\, schaukeln\, balancieren und klettern wie es Affen nicht besser können. In unsrem ehrenamtlich geführten Indoorspielplatz Affenhaus kannst du dich richtig austoben.\nWir öffnen von Januar bis März 14-tägig\, damit du auch im Winter einen Spielplatz hast.\nKomm mit deiner ganzen Familie vorbei. Für deine Eltern stehen auch Kaffee und Kuchen bereit.\nDa unser Indoorspielplatz Affenhaus ehrenamtlich getragen und finanziert wird\, kannst du dich gerne mit deiner Spende\, an unserem Projekt beteiligen.
URL:https://fegc.de/veranstaltung/indoorspielplatz-affenhaus-15/
LOCATION:gr. Saal\, Jugendraum\, Kinderraum\, Mehrzweck klein\, Mehrzweck groß\, Bistro\, Indoorspielplatz Affenhaus\, Max-Böhme-Ring 8\, Bertelsdorfer Höhe\, 96450\, Coburg
CATEGORIES:Affenhaus,Kinder-Jugend
END:VEVENT
BEGIN:VEVENT
DTSTART;TZID=Europe/Berlin:20260118T100000
DTEND;TZID=Europe/Berlin:20260118T113000
DTSTAMP:20260424T175115
CREATED:20251127T182559Z
LAST-MODIFIED:20260118T101050Z
UID:12233-1768730400-1768735800@fegc.de
SUMMARY:Gottesdienst mit Robert Kröger
DESCRIPTION:
URL:https://fegc.de/veranstaltung/gottesdienst-mit-robert-kroeger-27/
CATEGORIES:Gottesdienst
END:VEVENT
BEGIN:VEVENT
DTSTART;TZID=Europe/Berlin:20260120T093000
DTEND;TZID=Europe/Berlin:20260120T113000
DTSTAMP:20260424T175115
CREATED:20260119T135547Z
LAST-MODIFIED:20260120T102648Z
UID:17082-1768901400-1768908600@fegc.de
SUMMARY:Königskinder
DESCRIPTION:
URL:https://fegc.de/veranstaltung/koenigskinder/
LOCATION:Kinderraum\, Bistro
CATEGORIES:Kinder-Jugend
END:VEVENT
BEGIN:VEVENT
DTSTART;TZID=Europe/Berlin:20260120T193000
DTEND;TZID=Europe/Berlin:20260120T213000
DTSTAMP:20260424T175115
CREATED:20251216T164059Z
LAST-MODIFIED:20260120T194157Z
UID:13897-1768937400-1768944600@fegc.de
SUMMARY:Jugendkreis
DESCRIPTION:
URL:https://fegc.de/veranstaltung/jugendkreis-43/
CATEGORIES:Kinder-Jugend
END:VEVENT
BEGIN:VEVENT
DTSTART;TZID=Europe/Berlin:20260121T193000
DTEND;TZID=Europe/Berlin:20260121T203000
DTSTAMP:20260424T175115
CREATED:20251204T154755Z
LAST-MODIFIED:20260121T192708Z
UID:12415-1769023800-1769027400@fegc.de
SUMMARY:Bibelabend mit Robert Kröger
DESCRIPTION:
URL:https://fegc.de/veranstaltung/bibelabend-mit-manuel-weiss/
CATEGORIES:Sonstige Termine
END:VEVENT
BEGIN:VEVENT
DTSTART;TZID=Europe/Berlin:20260123T193000
DTEND;TZID=Europe/Berlin:20260123T220000
DTSTAMP:20260424T175115
CREATED:20251216T164059Z
LAST-MODIFIED:20260123T195715Z
UID:13898-1769196600-1769205600@fegc.de
SUMMARY:Move Up
DESCRIPTION:13-18 Jahre – Jeden Freitag Abend startet unser Move Up. Hier  kannst du chillen\, Freunde treffen und einfach eine witzige und actionreiche Zeit erleben. Vor allem aber wollen wir mit dir Jesus besser kennenlernen und erfahren\, wie spannend das Leben mit IHM ist! Du kannst jeder Zeit einfach spontan und ohne Anmeldung kommen! Wir freuen uns auf dich!
URL:https://fegc.de/veranstaltung/move-up-43/
LOCATION:Jugendraum\, Bistro\, Mehrzweck klein\, Mehrzweck groß
CATEGORIES:Kinder-Jugend
END:VEVENT
BEGIN:VEVENT
DTSTART;TZID=Europe/Berlin:20260124T183000
DTEND;TZID=Europe/Berlin:20260124T213000
DTSTAMP:20260424T175115
CREATED:20251216T164059Z
LAST-MODIFIED:20260124T195918Z
UID:13899-1769279400-1769290200@fegc.de
SUMMARY:Mitarbeiterdankabend
DESCRIPTION:Ein volles und erfülltes Jahr 2025 liegt hinter uns und da ist es einfach wieder dran\, euch als Mitarbeiter der Kinder- und Jugendarbeit danke zu sagen! Gemeinsam wollen wir lecker essen\, Review halten\, unseren himmlischen Vater loben und danken und uns von ihm neu entzünden lassen. Diesen Abend solltest du nicht verpassen\, da musst du unbedingt dabei sein!
URL:https://fegc.de/veranstaltung/mitarbeiterdankabend/
LOCATION:Mehrzweck klein\, Mehrzweck groß\, Küche\, Bistro\, Freie evangelische Gemeinde Coburg\, Max Böhme Ring 8\, 96450\, Coburg\, DE
CATEGORIES:Kinder-Jugend
END:VEVENT
BEGIN:VEVENT
DTSTART;TZID=Europe/Berlin:20260125T100000
DTEND;TZID=Europe/Berlin:20260125T113000
DTSTAMP:20260424T175115
CREATED:20251127T182559Z
LAST-MODIFIED:20260125T102602Z
UID:12234-1769335200-1769340600@fegc.de
SUMMARY:Gottesdienst mit Robert Kröger
DESCRIPTION:
URL:https://fegc.de/veranstaltung/gottesdienst-mit-robert-kroeger-28/
CATEGORIES:Gottesdienst
END:VEVENT
BEGIN:VEVENT
DTSTART;TZID=Europe/Berlin:20260127T093000
DTEND;TZID=Europe/Berlin:20260127T113000
DTSTAMP:20260424T175115
CREATED:20260119T135547Z
LAST-MODIFIED:20260127T092556Z
UID:17084-1769506200-1769513400@fegc.de
SUMMARY:Königskinder
DESCRIPTION:
URL:https://fegc.de/veranstaltung/koenigskinder-2/
LOCATION:Kinderraum\, Bistro
CATEGORIES:Kinder-Jugend
END:VEVENT
BEGIN:VEVENT
DTSTART;TZID=Europe/Berlin:20260127T193000
DTEND;TZID=Europe/Berlin:20260127T213000
DTSTAMP:20260424T175115
CREATED:20251216T164059Z
LAST-MODIFIED:20260127T202546Z
UID:13900-1769542200-1769549400@fegc.de
SUMMARY:Jugendkreis
DESCRIPTION:
URL:https://fegc.de/veranstaltung/jugendkreis-44/
CATEGORIES:Kinder-Jugend
END:VEVENT
BEGIN:VEVENT
DTSTART;TZID=Europe/Berlin:20260128T193000
DTEND;TZID=Europe/Berlin:20260128T203000
DTSTAMP:20260424T175115
CREATED:20251204T154807Z
LAST-MODIFIED:20260128T184118Z
UID:12419-1769628600-1769632200@fegc.de
SUMMARY:Bibelabend mit Robert Kröger
DESCRIPTION:
URL:https://fegc.de/veranstaltung/bibelabend-mit-robert-kroeger/
CATEGORIES:Sonstige Termine
END:VEVENT
BEGIN:VEVENT
DTSTART;TZID=Europe/Berlin:20260130T193000
DTEND;TZID=Europe/Berlin:20260130T213000
DTSTAMP:20260424T175115
CREATED:20251229T135603Z
LAST-MODIFIED:20260130T195558Z
UID:15232-1769801400-1769808600@fegc.de
SUMMARY:Männertreff
DESCRIPTION:Thema: Jahreslosung – Gott spricht: Siehe\, ich mache alles neu
URL:https://fegc.de/veranstaltung/maennertreff-13/
LOCATION:Mehrzweck groß\, Küche
CATEGORIES:Sonstige Termine
END:VEVENT
BEGIN:VEVENT
DTSTART;TZID=Europe/Berlin:20260130T193000
DTEND;TZID=Europe/Berlin:20260130T220000
DTSTAMP:20260424T175115
CREATED:20251216T164059Z
LAST-MODIFIED:20260130T202610Z
UID:13901-1769801400-1769810400@fegc.de
SUMMARY:Move Up
DESCRIPTION:13-18 Jahre – Jeden Freitag Abend startet unser Move Up. Hier  kannst du chillen\, Freunde treffen und einfach eine witzige und actionreiche Zeit erleben. Vor allem aber wollen wir mit dir Jesus besser kennenlernen und erfahren\, wie spannend das Leben mit IHM ist! Du kannst jeder Zeit einfach spontan und ohne Anmeldung kommen! Wir freuen uns auf dich!
URL:https://fegc.de/veranstaltung/move-up-44/
LOCATION:Jugendraum\, Bistro\, Mehrzweck klein\, Mehrzweck groß
CATEGORIES:Kinder-Jugend
END:VEVENT
BEGIN:VEVENT
DTSTART;TZID=Europe/Berlin:20260131T140000
DTEND;TZID=Europe/Berlin:20260131T170000
DTSTAMP:20260424T175115
CREATED:20251216T164059Z
LAST-MODIFIED:20260131T155606Z
UID:13902-1769868000-1769878800@fegc.de
SUMMARY:Indoorspielplatz Affenhaus
DESCRIPTION:Hangeln\, schaukeln\, balancieren und klettern wie es Affen nicht besser können. In unsrem ehrenamtlich geführten Indoorspielplatz Affenhaus kannst du dich richtig austoben.\nWir öffnen von Januar bis März 14-tägig\, damit du auch im Winter einen Spielplatz hast.\nKomm mit deiner ganzen Familie vorbei. Für deine Eltern stehen auch Kaffee und Kuchen bereit.\nDa unser Indoorspielplatz Affenhaus ehrenamtlich getragen und finanziert wird\, kannst du dich gerne mit deiner Spende\, an unserem Projekt beteiligen.
URL:https://fegc.de/veranstaltung/indoorspielplatz-affenhaus-16/
LOCATION:gr. Saal\, Jugendraum\, Kinderraum\, Mehrzweck klein\, Mehrzweck groß\, Bistro\, Indoorspielplatz Affenhaus\, Max-Böhme-Ring 8\, Bertelsdorfer Höhe\, 96450\, Coburg
CATEGORIES:Affenhaus,Kinder-Jugend
END:VEVENT
END:VCALENDAR