BEGIN:VCALENDAR
VERSION:2.0
PRODID:-//Freie evangelische Gemeinde Coburg - ECPv6.15.20//NONSGML v1.0//EN
CALSCALE:GREGORIAN
METHOD:PUBLISH
X-WR-CALNAME:Freie evangelische Gemeinde Coburg
X-ORIGINAL-URL:https://fegc.de
X-WR-CALDESC:Veranstaltungen für Freie evangelische Gemeinde Coburg
REFRESH-INTERVAL;VALUE=DURATION:PT1H
X-Robots-Tag:noindex
X-PUBLISHED-TTL:PT1H
BEGIN:VTIMEZONE
TZID:Europe/Berlin
BEGIN:DAYLIGHT
TZOFFSETFROM:+0100
TZOFFSETTO:+0200
TZNAME:CEST
DTSTART:20250330T010000
END:DAYLIGHT
BEGIN:STANDARD
TZOFFSETFROM:+0200
TZOFFSETTO:+0100
TZNAME:CET
DTSTART:20251026T010000
END:STANDARD
BEGIN:DAYLIGHT
TZOFFSETFROM:+0100
TZOFFSETTO:+0200
TZNAME:CEST
DTSTART:20260329T010000
END:DAYLIGHT
BEGIN:STANDARD
TZOFFSETFROM:+0200
TZOFFSETTO:+0100
TZNAME:CET
DTSTART:20261025T010000
END:STANDARD
BEGIN:DAYLIGHT
TZOFFSETFROM:+0100
TZOFFSETTO:+0200
TZNAME:CEST
DTSTART:20270328T010000
END:DAYLIGHT
BEGIN:STANDARD
TZOFFSETFROM:+0200
TZOFFSETTO:+0100
TZNAME:CET
DTSTART:20271031T010000
END:STANDARD
END:VTIMEZONE
BEGIN:VEVENT
DTSTART;TZID=Europe/Berlin:20260227T140000
DTEND;TZID=Europe/Berlin:20260301T180000
DTSTAMP:20260424T144752
CREATED:20251216T164113Z
LAST-MODIFIED:20260301T165551Z
UID:13911-1772200800-1772388000@fegc.de
SUMMARY:Fahrt zum YouPC
DESCRIPTION:
URL:https://fegc.de/veranstaltung/fahrt-zum-youpc-2/
LOCATION:Bus
CATEGORIES:Kinder-Jugend
END:VEVENT
BEGIN:VEVENT
DTSTART;TZID=Europe/Berlin:20260301T100000
DTEND;TZID=Europe/Berlin:20260301T113000
DTSTAMP:20260424T144752
CREATED:20251127T182612Z
LAST-MODIFIED:20260301T101127Z
UID:12239-1772359200-1772364600@fegc.de
SUMMARY:Gottesdienst mit Abendmahl mit Robert Kröger
DESCRIPTION:
URL:https://fegc.de/veranstaltung/gottesdienst-mit-abendmahl-mit-robert-kroeger-2/
CATEGORIES:Gottesdienst
END:VEVENT
BEGIN:VEVENT
DTSTART;TZID=Europe/Berlin:20260303T093000
DTEND;TZID=Europe/Berlin:20260303T113000
DTSTAMP:20260424T144752
CREATED:20260119T135612Z
LAST-MODIFIED:20260303T095614Z
UID:17089-1772530200-1772537400@fegc.de
SUMMARY:Königskinder
DESCRIPTION:
URL:https://fegc.de/veranstaltung/koenigskinder-7/
LOCATION:Kinderraum\, Bistro
CATEGORIES:Kinder-Jugend
END:VEVENT
BEGIN:VEVENT
DTSTART;TZID=Europe/Berlin:20260303T143000
DTEND;TZID=Europe/Berlin:20260303T160000
DTSTAMP:20260424T144752
CREATED:20260222T011054Z
LAST-MODIFIED:20260303T144126Z
UID:20344-1772548200-1772553600@fegc.de
SUMMARY:Cafe' 60+
DESCRIPTION:
URL:https://fegc.de/veranstaltung/cafe-60-16/
LOCATION:Mehrzweck klein\, Mehrzweck groß\, Küche\, Bistro
CATEGORIES:Sonstige Termine
END:VEVENT
BEGIN:VEVENT
DTSTART;TZID=Europe/Berlin:20260303T193000
DTEND;TZID=Europe/Berlin:20260303T213000
DTSTAMP:20260424T144752
CREATED:20251216T164113Z
LAST-MODIFIED:20260303T195609Z
UID:13913-1772566200-1772573400@fegc.de
SUMMARY:Jugendkreis
DESCRIPTION:
URL:https://fegc.de/veranstaltung/jugendkreis-49/
CATEGORIES:Kinder-Jugend
END:VEVENT
BEGIN:VEVENT
DTSTART;TZID=Europe/Berlin:20260304T193000
DTEND;TZID=Europe/Berlin:20260304T203000
DTSTAMP:20260424T144752
CREATED:20260222T011054Z
LAST-MODIFIED:20260304T184054Z
UID:20345-1772652600-1772656200@fegc.de
SUMMARY:Gebetsabend mit Robert Kröger
DESCRIPTION:
URL:https://fegc.de/veranstaltung/gebetsabend-mit-robert-kroeger-2/
CATEGORIES:Sonstige Termine
END:VEVENT
BEGIN:VEVENT
DTSTART;TZID=Europe/Berlin:20260306T193000
DTEND;TZID=Europe/Berlin:20260306T220000
DTSTAMP:20260424T144752
CREATED:20251216T164113Z
LAST-MODIFIED:20260306T201124Z
UID:13914-1772825400-1772834400@fegc.de
SUMMARY:Move Up
DESCRIPTION:13-18 Jahre – Jeden Freitag Abend startet unser Move Up. Hier  kannst du chillen\, Freunde treffen und einfach eine witzige und actionreiche Zeit erleben. Vor allem aber wollen wir mit dir Jesus besser kennenlernen und erfahren\, wie spannend das Leben mit IHM ist! Du kannst jeder Zeit einfach spontan und ohne Anmeldung kommen! Wir freuen uns auf dich!
URL:https://fegc.de/veranstaltung/move-up-48/
LOCATION:Jugendraum\, Bistro\, Mehrzweck klein\, Mehrzweck groß
CATEGORIES:Kinder-Jugend
END:VEVENT
BEGIN:VEVENT
DTSTART;TZID=Europe/Berlin:20260308T100000
DTEND;TZID=Europe/Berlin:20260308T113000
DTSTAMP:20260424T144752
CREATED:20260212T095611Z
LAST-MODIFIED:20260308T102554Z
UID:19475-1772964000-1772969400@fegc.de
SUMMARY:Gottesdienst mit David Stamm
DESCRIPTION:mit Kindersegnung
URL:https://fegc.de/veranstaltung/gottesdienst-mit-david-stamm-10/
CATEGORIES:Gottesdienst
END:VEVENT
BEGIN:VEVENT
DTSTART;TZID=Europe/Berlin:20260310T093000
DTEND;TZID=Europe/Berlin:20260310T113000
DTSTAMP:20260424T144752
CREATED:20260119T135612Z
LAST-MODIFIED:20260310T094056Z
UID:17090-1773135000-1773142200@fegc.de
SUMMARY:Königskinder
DESCRIPTION:
URL:https://fegc.de/veranstaltung/koenigskinder-8/
LOCATION:Kinderraum\, Bistro
CATEGORIES:Kinder-Jugend
END:VEVENT
BEGIN:VEVENT
DTSTART;TZID=Europe/Berlin:20260310T190000
DTEND;TZID=Europe/Berlin:20260310T213000
DTSTAMP:20260424T144752
CREATED:20260222T011055Z
LAST-MODIFIED:20260310T192828Z
UID:20346-1773169200-1773178200@fegc.de
SUMMARY:Handarbeitstreff
DESCRIPTION:
URL:https://fegc.de/veranstaltung/handarbeitstreff-7/
CATEGORIES:Sonstige Termine
END:VEVENT
BEGIN:VEVENT
DTSTART;TZID=Europe/Berlin:20260310T193000
DTEND;TZID=Europe/Berlin:20260310T213000
DTSTAMP:20260424T144752
CREATED:20251216T164113Z
LAST-MODIFIED:20260310T192827Z
UID:13915-1773171000-1773178200@fegc.de
SUMMARY:Jugendkreis
DESCRIPTION:
URL:https://fegc.de/veranstaltung/jugendkreis-50/
CATEGORIES:Kinder-Jugend
END:VEVENT
BEGIN:VEVENT
DTSTART;TZID=Europe/Berlin:20260311T193000
DTEND;TZID=Europe/Berlin:20260311T203000
DTSTAMP:20260424T144752
CREATED:20260222T011055Z
LAST-MODIFIED:20260311T184047Z
UID:20347-1773257400-1773261000@fegc.de
SUMMARY:Bibelabend mit Robert Kröger
DESCRIPTION:
URL:https://fegc.de/veranstaltung/bibelabend-mit-robert-kroeger-4/
CATEGORIES:Sonstige Termine
END:VEVENT
BEGIN:VEVENT
DTSTART;TZID=Europe/Berlin:20260313T193000
DTEND;TZID=Europe/Berlin:20260313T220000
DTSTAMP:20260424T144752
CREATED:20251216T164113Z
LAST-MODIFIED:20260313T204110Z
UID:13916-1773430200-1773439200@fegc.de
SUMMARY:Move Up
DESCRIPTION:13-18 Jahre – Jeden Freitag Abend startet unser Move Up. Hier  kannst du chillen\, Freunde treffen und einfach eine witzige und actionreiche Zeit erleben. Vor allem aber wollen wir mit dir Jesus besser kennenlernen und erfahren\, wie spannend das Leben mit IHM ist! Du kannst jeder Zeit einfach spontan und ohne Anmeldung kommen! Wir freuen uns auf dich!
URL:https://fegc.de/veranstaltung/move-up-49/
LOCATION:Jugendraum\, Bistro\, Mehrzweck klein\, Mehrzweck groß
CATEGORIES:Kinder-Jugend
END:VEVENT
BEGIN:VEVENT
DTSTART;TZID=Europe/Berlin:20260314T140000
DTEND;TZID=Europe/Berlin:20260314T170000
DTSTAMP:20260424T144752
CREATED:20251216T164126Z
LAST-MODIFIED:20260314T151151Z
UID:13917-1773496800-1773507600@fegc.de
SUMMARY:Indoorspielplatz Affenhaus
DESCRIPTION:Hangeln\, schaukeln\, balancieren und klettern wie es Affen nicht besser können. In unsrem ehrenamtlich geführten Indoorspielplatz Affenhaus kannst du dich richtig austoben.\nWir öffnen von Januar bis März 14-tägig\, damit du auch im Winter einen Spielplatz hast.\nKomm mit deiner ganzen Familie vorbei. Für deine Eltern stehen auch Kaffee und Kuchen bereit.\nDa unser Indoorspielplatz Affenhaus ehrenamtlich getragen und finanziert wird\, kannst du dich gerne mit deiner Spende\, an unserem Projekt beteiligen.
URL:https://fegc.de/veranstaltung/indoorspielplatz-affenhaus-19/
LOCATION:gr. Saal\, Jugendraum\, Kinderraum\, Mehrzweck klein\, Mehrzweck groß\, Bistro\, Indoorspielplatz Affenhaus\, Max-Böhme-Ring 8\, Bertelsdorfer Höhe\, 96450\, Coburg
CATEGORIES:Affenhaus,Kinder-Jugend
END:VEVENT
BEGIN:VEVENT
DTSTART;TZID=Europe/Berlin:20260315T100000
DTEND;TZID=Europe/Berlin:20260315T113000
DTSTAMP:20260424T144752
CREATED:20251127T182612Z
LAST-MODIFIED:20260315T102609Z
UID:12240-1773568800-1773574200@fegc.de
SUMMARY:Gottesdienst mit Robert Kröger
DESCRIPTION:
URL:https://fegc.de/veranstaltung/gottesdienst-mit-david-stamm-7/
CATEGORIES:Gottesdienst
END:VEVENT
BEGIN:VEVENT
DTSTART;TZID=Europe/Berlin:20260317T193000
DTEND;TZID=Europe/Berlin:20260317T213000
DTSTAMP:20260424T144752
CREATED:20251216T164126Z
LAST-MODIFIED:20260317T195615Z
UID:13918-1773775800-1773783000@fegc.de
SUMMARY:Jugendkreis
DESCRIPTION:
URL:https://fegc.de/veranstaltung/jugendkreis-51/
CATEGORIES:Kinder-Jugend
END:VEVENT
BEGIN:VEVENT
DTSTART;TZID=Europe/Berlin:20260318T193000
DTEND;TZID=Europe/Berlin:20260318T203000
DTSTAMP:20260424T144752
CREATED:20260222T011055Z
LAST-MODIFIED:20260318T185555Z
UID:20348-1773862200-1773865800@fegc.de
SUMMARY:Bibelabend mit David Löwen
DESCRIPTION:
URL:https://fegc.de/veranstaltung/bibelabend-mit-david-loewen/
CATEGORIES:Sonstige Termine
END:VEVENT
BEGIN:VEVENT
DTSTART;TZID=Europe/Berlin:20260320T160000
DTEND;TZID=Europe/Berlin:20260320T180000
DTSTAMP:20260424T144752
CREATED:20260313T235742Z
LAST-MODIFIED:20260320T151113Z
UID:22258-1774022400-1774029600@fegc.de
SUMMARY:Move-Kids
DESCRIPTION:
URL:https://fegc.de/veranstaltung/move-kids-41/
LOCATION:gr. Saal\, Jugendraum\, Kinderraum\, Bistro\, Mehrzweck groß\, Mehrzweck klein\, Beamer\, Max-Böhme-Ring\, Bertelsdorf\, 96450\, Coburg\, de
CATEGORIES:Kinder-Jugend
END:VEVENT
BEGIN:VEVENT
DTSTART;TZID=Europe/Berlin:20260320T193000
DTEND;TZID=Europe/Berlin:20260320T220000
DTSTAMP:20260424T144752
CREATED:20251216T164126Z
LAST-MODIFIED:20260320T202547Z
UID:13919-1774035000-1774044000@fegc.de
SUMMARY:Move Up
DESCRIPTION:13-18 Jahre – Jeden Freitag Abend startet unser Move Up. Hier  kannst du chillen\, Freunde treffen und einfach eine witzige und actionreiche Zeit erleben. Vor allem aber wollen wir mit dir Jesus besser kennenlernen und erfahren\, wie spannend das Leben mit IHM ist! Du kannst jeder Zeit einfach spontan und ohne Anmeldung kommen! Wir freuen uns auf dich!
URL:https://fegc.de/veranstaltung/move-up-50/
LOCATION:Jugendraum\, Bistro\, Mehrzweck klein\, Mehrzweck groß
CATEGORIES:Kinder-Jugend
END:VEVENT
BEGIN:VEVENT
DTSTART;TZID=Europe/Berlin:20260322T100000
DTEND;TZID=Europe/Berlin:20260322T113000
DTSTAMP:20260424T144752
CREATED:20251127T182612Z
LAST-MODIFIED:20260322T095758Z
UID:12241-1774173600-1774179000@fegc.de
SUMMARY:Gottesdienst mit Robert Kröger
DESCRIPTION:
URL:https://fegc.de/veranstaltung/gottesdienst-mit-robert-kroeger-31/
CATEGORIES:Gottesdienst
END:VEVENT
BEGIN:VEVENT
DTSTART;TZID=Europe/Berlin:20260324T093000
DTEND;TZID=Europe/Berlin:20260324T113000
DTSTAMP:20260424T144752
CREATED:20260119T135625Z
LAST-MODIFIED:20260324T091143Z
UID:17091-1774344600-1774351800@fegc.de
SUMMARY:Königskinder
DESCRIPTION:
URL:https://fegc.de/veranstaltung/koenigskinder-9/
LOCATION:Kinderraum\, Bistro
CATEGORIES:Kinder-Jugend
END:VEVENT
BEGIN:VEVENT
DTSTART;TZID=Europe/Berlin:20260324T193000
DTEND;TZID=Europe/Berlin:20260324T213000
DTSTAMP:20260424T144752
CREATED:20251216T164126Z
LAST-MODIFIED:20260324T194059Z
UID:13920-1774380600-1774387800@fegc.de
SUMMARY:Jugendkreis
DESCRIPTION:
URL:https://fegc.de/veranstaltung/jugendkreis-52/
CATEGORIES:Kinder-Jugend
END:VEVENT
BEGIN:VEVENT
DTSTART;TZID=Europe/Berlin:20260325T180000
DTEND;TZID=Europe/Berlin:20260325T200000
DTSTAMP:20260424T144752
CREATED:20260324T142621Z
LAST-MODIFIED:20260325T184106Z
UID:23264-1774461600-1774468800@fegc.de
SUMMARY:Truestory
DESCRIPTION:Jugendwoche – Herzliche Einladung von 25.-29 März zu einer Woche voller Tiefgang\, Action\, Workshops\, inspirierender Impulse\, Musik\, spannender Challenges\, Interviews und vielem mehr. Seid dabei!\nUm 18 Uhr geht es jeden Tag los mit Workshops\, Essen\, Cocktails.\nUm 19 Uhr geht das Bühnenprogramm los und\nab 20 Uhr ist Lagerfeuer\, Chillout Lounge\, Party geplant.\nEs lohnt sich!
URL:https://fegc.de/veranstaltung/truestory/
LOCATION:Refektorium\, Klosterhof 6\, Mönchröden\, 96472\, Rödental\, DE
CATEGORIES:Kinder-Jugend
END:VEVENT
BEGIN:VEVENT
DTSTART;TZID=Europe/Berlin:20260325T193000
DTEND;TZID=Europe/Berlin:20260325T203000
DTSTAMP:20260424T144752
CREATED:20260222T011055Z
LAST-MODIFIED:20260325T192651Z
UID:20349-1774467000-1774470600@fegc.de
SUMMARY:Bibelabend mit Robert Kröger
DESCRIPTION:
URL:https://fegc.de/veranstaltung/bibelabend-mit-robert-kroeger-5/
CATEGORIES:Sonstige Termine
END:VEVENT
BEGIN:VEVENT
DTSTART;TZID=Europe/Berlin:20260326T180000
DTEND;TZID=Europe/Berlin:20260326T200000
DTSTAMP:20260424T144752
CREATED:20260324T142621Z
LAST-MODIFIED:20260326T185632Z
UID:23266-1774548000-1774555200@fegc.de
SUMMARY:Truestory
DESCRIPTION:Jugendwoche – Herzliche Einladung von 25.-29 März zu einer Woche voller Tiefgang\, Action\, Workshops\, inspirierender Impulse\, Musik\, spannender Challenges\, Interviews und vielem mehr. Seid dabei!\nUm 18 Uhr geht es jeden Tag los mit Workshops\, Essen\, Cocktails.\nUm 19 Uhr geht das Bühnenprogramm los und\nab 20 Uhr ist Lagerfeuer\, Chillout Lounge\, Party geplant.\nEs lohnt sich!
URL:https://fegc.de/veranstaltung/truestory-2/
LOCATION:Refektorium\, Klosterhof 6\, Mönchröden\, 96472\, Rödental\, DE
CATEGORIES:Kinder-Jugend
END:VEVENT
BEGIN:VEVENT
DTSTART;TZID=Europe/Berlin:20260327T160000
DTEND;TZID=Europe/Berlin:20260327T180000
DTSTAMP:20260424T144752
CREATED:20260325T132624Z
LAST-MODIFIED:20260327T162552Z
UID:23386-1774627200-1774634400@fegc.de
SUMMARY:‼️MOVE KIDS FÄLLT AUS‼️
DESCRIPTION:
URL:https://fegc.de/veranstaltung/%e2%80%bc%ef%b8%8fmove-kids-faellt-aus%e2%80%bc%ef%b8%8f/
LOCATION:gr. Saal\, Jugendraum\, Kinderraum\, Bistro\, Mehrzweck groß\, Mehrzweck klein\, Beamer\, Max-Böhme-Ring\, Bertelsdorf\, 96450\, Coburg\, de
CATEGORIES:Kinder-Jugend
END:VEVENT
BEGIN:VEVENT
DTSTART;TZID=Europe/Berlin:20260327T180000
DTEND;TZID=Europe/Berlin:20260327T200000
DTSTAMP:20260424T144752
CREATED:20260324T142622Z
LAST-MODIFIED:20260327T184049Z
UID:23267-1774634400-1774641600@fegc.de
SUMMARY:Truestory
DESCRIPTION:Jugendwoche – Herzliche Einladung von 25.-29 März zu einer Woche voller Tiefgang\, Action\, Workshops\, inspirierender Impulse\, Musik\, spannender Challenges\, Interviews und vielem mehr. Seid dabei!\nUm 18 Uhr geht es jeden Tag los mit Workshops\, Essen\, Cocktails.\nUm 19 Uhr geht das Bühnenprogramm los und\nab 20 Uhr ist Lagerfeuer\, Chillout Lounge\, Party geplant.\nEs lohnt sich!
URL:https://fegc.de/veranstaltung/truestory-3/
LOCATION:Refektorium\, Klosterhof 6\, Mönchröden\, 96472\, Rödental\, DE
CATEGORIES:Kinder-Jugend
END:VEVENT
BEGIN:VEVENT
DTSTART;TZID=Europe/Berlin:20260327T193000
DTEND;TZID=Europe/Berlin:20260327T213000
DTSTAMP:20260424T144752
CREATED:20260222T011055Z
LAST-MODIFIED:20260327T194054Z
UID:20350-1774639800-1774647000@fegc.de
SUMMARY:Männertreff
DESCRIPTION:Thema: In die Ruhe Gottes kommen
URL:https://fegc.de/veranstaltung/maennertreff-15/
LOCATION:Mehrzweck groß\, Küche
CATEGORIES:Sonstige Termine
END:VEVENT
BEGIN:VEVENT
DTSTART;TZID=Europe/Berlin:20260328T140000
DTEND;TZID=Europe/Berlin:20260328T170000
DTSTAMP:20260424T144752
CREATED:20251216T164127Z
LAST-MODIFIED:20260328T155631Z
UID:13922-1774706400-1774717200@fegc.de
SUMMARY:Indoorspielplatz Affenhaus
DESCRIPTION:Hangeln\, schaukeln\, balancieren und klettern wie es Affen nicht besser können. In unsrem ehrenamtlich geführten Indoorspielplatz Affenhaus kannst du dich richtig austoben.\nWir öffnen von Januar bis März 14-tägig\, damit du auch im Winter einen Spielplatz hast.\nKomm mit deiner ganzen Familie vorbei. Für deine Eltern stehen auch Kaffee und Kuchen bereit.\nDa unser Indoorspielplatz Affenhaus ehrenamtlich getragen und finanziert wird\, kannst du dich gerne mit deiner Spende\, an unserem Projekt beteiligen.
URL:https://fegc.de/veranstaltung/indoorspielplatz-affenhaus-20/
LOCATION:gr. Saal\, Jugendraum\, Kinderraum\, Mehrzweck klein\, Mehrzweck groß\, Bistro\, Indoorspielplatz Affenhaus\, Max-Böhme-Ring 8\, Bertelsdorfer Höhe\, 96450\, Coburg
CATEGORIES:Affenhaus,Kinder-Jugend
END:VEVENT
BEGIN:VEVENT
DTSTART;TZID=Europe/Berlin:20260328T180000
DTEND;TZID=Europe/Berlin:20260328T200000
DTSTAMP:20260424T144752
CREATED:20260324T142622Z
LAST-MODIFIED:20260328T181050Z
UID:23268-1774720800-1774728000@fegc.de
SUMMARY:Truestory
DESCRIPTION:Jugendwoche – Herzliche Einladung von 25.-29 März zu einer Woche voller Tiefgang\, Action\, Workshops\, inspirierender Impulse\, Musik\, spannender Challenges\, Interviews und vielem mehr. Seid dabei!\nUm 18 Uhr geht es jeden Tag los mit Workshops\, Essen\, Cocktails.\nUm 19 Uhr geht das Bühnenprogramm los und\nab 20 Uhr ist Lagerfeuer\, Chillout Lounge\, Party geplant.\nEs lohnt sich!
URL:https://fegc.de/veranstaltung/truestory-4/
LOCATION:Refektorium\, Klosterhof 6\, Mönchröden\, 96472\, Rödental\, DE
CATEGORIES:Kinder-Jugend
END:VEVENT
END:VCALENDAR