BEGIN:VCALENDAR
VERSION:2.0
PRODID:-//Freie evangelische Gemeinde Coburg - ECPv6.15.20//NONSGML v1.0//EN
CALSCALE:GREGORIAN
METHOD:PUBLISH
X-ORIGINAL-URL:https://fegc.de
X-WR-CALDESC:Veranstaltungen für Freie evangelische Gemeinde Coburg
REFRESH-INTERVAL;VALUE=DURATION:PT1H
X-Robots-Tag:noindex
X-PUBLISHED-TTL:PT1H
BEGIN:VTIMEZONE
TZID:Europe/Berlin
BEGIN:DAYLIGHT
TZOFFSETFROM:+0100
TZOFFSETTO:+0200
TZNAME:CEST
DTSTART:20250330T010000
END:DAYLIGHT
BEGIN:STANDARD
TZOFFSETFROM:+0200
TZOFFSETTO:+0100
TZNAME:CET
DTSTART:20251026T010000
END:STANDARD
BEGIN:DAYLIGHT
TZOFFSETFROM:+0100
TZOFFSETTO:+0200
TZNAME:CEST
DTSTART:20260329T010000
END:DAYLIGHT
BEGIN:STANDARD
TZOFFSETFROM:+0200
TZOFFSETTO:+0100
TZNAME:CET
DTSTART:20261025T010000
END:STANDARD
BEGIN:DAYLIGHT
TZOFFSETFROM:+0100
TZOFFSETTO:+0200
TZNAME:CEST
DTSTART:20270328T010000
END:DAYLIGHT
BEGIN:STANDARD
TZOFFSETFROM:+0200
TZOFFSETTO:+0100
TZNAME:CET
DTSTART:20271031T010000
END:STANDARD
END:VTIMEZONE
BEGIN:VEVENT
DTSTART;TZID=Europe/Berlin:20260602T143000
DTEND;TZID=Europe/Berlin:20260602T160000
DTSTAMP:20260424T162008
CREATED:20260409T151119Z
LAST-MODIFIED:20260424T141125Z
UID:24765-1780410600-1780416000@fegc.de
SUMMARY:Cafe' 60+
DESCRIPTION:
URL:https://fegc.de/veranstaltung/cafe-60-19/
LOCATION:Mehrzweck klein\, Mehrzweck groß\, Küche\, Bistro
CATEGORIES:Sonstige Termine
END:VEVENT
BEGIN:VEVENT
DTSTART;TZID=Europe/Berlin:20260602T193000
DTEND;TZID=Europe/Berlin:20260602T213000
DTSTAMP:20260424T162009
CREATED:20251216T164153Z
LAST-MODIFIED:20260424T134112Z
UID:13939-1780428600-1780435800@fegc.de
SUMMARY:Jugendkreis
DESCRIPTION:
URL:https://fegc.de/veranstaltung/jugendkreis-62/
CATEGORIES:Kinder-Jugend
END:VEVENT
BEGIN:VEVENT
DTSTART;TZID=Europe/Berlin:20260603T193000
DTEND;TZID=Europe/Berlin:20260603T203000
DTSTAMP:20260424T162009
CREATED:20260409T151119Z
LAST-MODIFIED:20260424T141125Z
UID:24766-1780515000-1780518600@fegc.de
SUMMARY:Gebetsabend
DESCRIPTION:
URL:https://fegc.de/veranstaltung/gebetsabend-4/
CATEGORIES:Sonstige Termine
END:VEVENT
BEGIN:VEVENT
DTSTART;TZID=Europe/Berlin:20260607T100000
DTEND;TZID=Europe/Berlin:20260607T113000
DTSTAMP:20260424T162009
CREATED:20251127T182626Z
LAST-MODIFIED:20260424T141112Z
UID:12254-1780826400-1780831800@fegc.de
SUMMARY:Gottesdienst mit Abendmahl mit Robert Kröger
DESCRIPTION:
URL:https://fegc.de/veranstaltung/gottesdienst-mit-abendmahl-mit-robert-kroeger-4/
CATEGORIES:Gottesdienst
END:VEVENT
BEGIN:VEVENT
DTSTART;TZID=Europe/Berlin:20260609T093000
DTEND;TZID=Europe/Berlin:20260609T113000
DTSTAMP:20260424T162009
CREATED:20260119T135650Z
LAST-MODIFIED:20260424T134112Z
UID:17098-1780997400-1781004600@fegc.de
SUMMARY:Königskinder
DESCRIPTION:
URL:https://fegc.de/veranstaltung/koenigskinder-16/
LOCATION:Kinderraum\, Bistro
CATEGORIES:Kinder-Jugend
END:VEVENT
BEGIN:VEVENT
DTSTART;TZID=Europe/Berlin:20260609T190000
DTEND;TZID=Europe/Berlin:20260609T213000
DTSTAMP:20260424T162009
CREATED:20260409T151119Z
LAST-MODIFIED:20260424T141126Z
UID:24767-1781031600-1781040600@fegc.de
SUMMARY:Handarbeitstreff
DESCRIPTION:
URL:https://fegc.de/veranstaltung/handarbeitstreff-10/
CATEGORIES:Sonstige Termine
END:VEVENT
BEGIN:VEVENT
DTSTART;TZID=Europe/Berlin:20260609T193000
DTEND;TZID=Europe/Berlin:20260609T213000
DTSTAMP:20260424T162009
CREATED:20251216T164153Z
LAST-MODIFIED:20260424T134112Z
UID:13940-1781033400-1781040600@fegc.de
SUMMARY:Jugendkreis
DESCRIPTION:
URL:https://fegc.de/veranstaltung/jugendkreis-63/
CATEGORIES:Kinder-Jugend
END:VEVENT
BEGIN:VEVENT
DTSTART;TZID=Europe/Berlin:20260610T193000
DTEND;TZID=Europe/Berlin:20260610T203000
DTSTAMP:20260424T162009
CREATED:20260409T151119Z
LAST-MODIFIED:20260424T141126Z
UID:24768-1781119800-1781123400@fegc.de
SUMMARY:Bibelabend
DESCRIPTION:
URL:https://fegc.de/veranstaltung/bibelabend-49/
CATEGORIES:Sonstige Termine
END:VEVENT
BEGIN:VEVENT
DTSTART;TZID=Europe/Berlin:20260612T160000
DTEND;TZID=Europe/Berlin:20260612T180000
DTSTAMP:20260424T162009
CREATED:20260313T235821Z
LAST-MODIFIED:20260424T134112Z
UID:22266-1781280000-1781287200@fegc.de
SUMMARY:Move-Kids
DESCRIPTION:
URL:https://fegc.de/veranstaltung/move-kids-48/
LOCATION:gr. Saal\, Jugendraum\, Kinderraum\, Bistro\, Mehrzweck groß\, Mehrzweck klein\, Beamer\, Max-Böhme-Ring\, Bertelsdorf\, 96450\, Coburg\, de
CATEGORIES:Kinder-Jugend
END:VEVENT
BEGIN:VEVENT
DTSTART;TZID=Europe/Berlin:20260612T193000
DTEND;TZID=Europe/Berlin:20260612T220000
DTSTAMP:20260424T162009
CREATED:20251216T164141Z
LAST-MODIFIED:20260424T134112Z
UID:13936-1781292600-1781301600@fegc.de
SUMMARY:Move Up
DESCRIPTION:Jeden Freitag Abend startet unser Move Up. Hier  kannst du chillen\, Freunde treffen und einfach eine witzige und actionreiche Zeit erleben. Vor allem aber wollen wir mit dir Jesus besser kennenlernen und erfahren\, wie spannend das Leben mit IHM ist! Du kannst jeder Zeit einfach spontan und ohne Anmeldung kommen! Wir freuen uns auf dich!
URL:https://fegc.de/veranstaltung/move-up-57/
LOCATION:Jugendraum\, Bistro\, Mehrzweck klein\, Mehrzweck groß
CATEGORIES:Kinder-Jugend
END:VEVENT
BEGIN:VEVENT
DTSTART;TZID=Europe/Berlin:20260614T100000
DTEND;TZID=Europe/Berlin:20260614T113000
DTSTAMP:20260424T162009
CREATED:20251127T182626Z
LAST-MODIFIED:20260424T141112Z
UID:12252-1781431200-1781436600@fegc.de
SUMMARY:Gottesdienst mit Bernd Lutter
DESCRIPTION:
URL:https://fegc.de/veranstaltung/gottesdienst-mit-robert-kroeger-37/
CATEGORIES:Gottesdienst
END:VEVENT
BEGIN:VEVENT
DTSTART;TZID=Europe/Berlin:20260616T093000
DTEND;TZID=Europe/Berlin:20260616T113000
DTSTAMP:20260424T162009
CREATED:20260119T135702Z
LAST-MODIFIED:20260424T134112Z
UID:17099-1781602200-1781609400@fegc.de
SUMMARY:Königskinder
DESCRIPTION:
URL:https://fegc.de/veranstaltung/koenigskinder-17/
LOCATION:Kinderraum\, Bistro
CATEGORIES:Kinder-Jugend
END:VEVENT
BEGIN:VEVENT
DTSTART;TZID=Europe/Berlin:20260616T193000
DTEND;TZID=Europe/Berlin:20260616T213000
DTSTAMP:20260424T162009
CREATED:20251216T164153Z
LAST-MODIFIED:20260424T134112Z
UID:13942-1781638200-1781645400@fegc.de
SUMMARY:Jugendkreis
DESCRIPTION:
URL:https://fegc.de/veranstaltung/jugendkreis-64/
CATEGORIES:Kinder-Jugend
END:VEVENT
BEGIN:VEVENT
DTSTART;TZID=Europe/Berlin:20260617T193000
DTEND;TZID=Europe/Berlin:20260617T203000
DTSTAMP:20260424T162009
CREATED:20260409T151119Z
LAST-MODIFIED:20260424T141126Z
UID:24769-1781724600-1781728200@fegc.de
SUMMARY:Bibelabend
DESCRIPTION:
URL:https://fegc.de/veranstaltung/bibelabend-50/
CATEGORIES:Sonstige Termine
END:VEVENT
BEGIN:VEVENT
DTSTART;TZID=Europe/Berlin:20260619T160000
DTEND;TZID=Europe/Berlin:20260619T180000
DTSTAMP:20260424T162009
CREATED:20260313T235835Z
LAST-MODIFIED:20260424T134113Z
UID:22267-1781884800-1781892000@fegc.de
SUMMARY:Move-Kids
DESCRIPTION:
URL:https://fegc.de/veranstaltung/move-kids-49/
LOCATION:gr. Saal\, Jugendraum\, Kinderraum\, Bistro\, Mehrzweck groß\, Mehrzweck klein\, Beamer\, Max-Böhme-Ring\, Bertelsdorf\, 96450\, Coburg\, de
CATEGORIES:Kinder-Jugend
END:VEVENT
BEGIN:VEVENT
DTSTART;TZID=Europe/Berlin:20260619T193000
DTEND;TZID=Europe/Berlin:20260619T220000
DTSTAMP:20260424T162009
CREATED:20251216T164153Z
LAST-MODIFIED:20260424T134113Z
UID:13941-1781897400-1781906400@fegc.de
SUMMARY:Move Up
DESCRIPTION:Jeden Freitag Abend startet unser Move Up. Hier  kannst du chillen\, Freunde treffen und einfach eine witzige und actionreiche Zeit erleben. Vor allem aber wollen wir mit dir Jesus besser kennenlernen und erfahren\, wie spannend das Leben mit IHM ist! Du kannst jeder Zeit einfach spontan und ohne Anmeldung kommen! Wir freuen uns auf dich!
URL:https://fegc.de/veranstaltung/move-up-58/
LOCATION:Jugendraum\, Bistro\, Mehrzweck klein\, Mehrzweck groß
CATEGORIES:Kinder-Jugend
END:VEVENT
BEGIN:VEVENT
DTSTART;TZID=Europe/Berlin:20260621T100000
DTEND;TZID=Europe/Berlin:20260621T113000
DTSTAMP:20260424T162009
CREATED:20260304T081311Z
LAST-MODIFIED:20260424T141112Z
UID:21403-1782036000-1782041400@fegc.de
SUMMARY:Gottesdienst mit David Stamm
DESCRIPTION:OPEN AIR
URL:https://fegc.de/veranstaltung/gottesdienst-mit-david-stamm-11/
CATEGORIES:Gottesdienst
END:VEVENT
BEGIN:VEVENT
DTSTART;TZID=Europe/Berlin:20260623T093000
DTEND;TZID=Europe/Berlin:20260623T113000
DTSTAMP:20260424T162009
CREATED:20260119T135703Z
LAST-MODIFIED:20260424T134113Z
UID:17100-1782207000-1782214200@fegc.de
SUMMARY:Königskinder
DESCRIPTION:
URL:https://fegc.de/veranstaltung/koenigskinder-18/
LOCATION:Kinderraum\, Bistro
CATEGORIES:Kinder-Jugend
END:VEVENT
BEGIN:VEVENT
DTSTART;TZID=Europe/Berlin:20260623T193000
DTEND;TZID=Europe/Berlin:20260623T213000
DTSTAMP:20260424T162009
CREATED:20251216T164153Z
LAST-MODIFIED:20260424T134126Z
UID:13944-1782243000-1782250200@fegc.de
SUMMARY:Jugendkreis
DESCRIPTION:
URL:https://fegc.de/veranstaltung/jugendkreis-65/
CATEGORIES:Kinder-Jugend
END:VEVENT
BEGIN:VEVENT
DTSTART;TZID=Europe/Berlin:20260624T193000
DTEND;TZID=Europe/Berlin:20260624T203000
DTSTAMP:20260424T162009
CREATED:20260409T151119Z
LAST-MODIFIED:20260424T141126Z
UID:24770-1782329400-1782333000@fegc.de
SUMMARY:Bibelabend
DESCRIPTION:
URL:https://fegc.de/veranstaltung/bibelabend-51/
CATEGORIES:Sonstige Termine
END:VEVENT
BEGIN:VEVENT
DTSTART;TZID=Europe/Berlin:20260626T160000
DTEND;TZID=Europe/Berlin:20260626T180000
DTSTAMP:20260424T162009
CREATED:20260313T235835Z
LAST-MODIFIED:20260424T134126Z
UID:22268-1782489600-1782496800@fegc.de
SUMMARY:Move-Kids
DESCRIPTION:
URL:https://fegc.de/veranstaltung/move-kids-50/
LOCATION:gr. Saal\, Jugendraum\, Kinderraum\, Bistro\, Mehrzweck groß\, Mehrzweck klein\, Beamer\, Max-Böhme-Ring\, Bertelsdorf\, 96450\, Coburg\, de
CATEGORIES:Kinder-Jugend
END:VEVENT
BEGIN:VEVENT
DTSTART;TZID=Europe/Berlin:20260626T193000
DTEND;TZID=Europe/Berlin:20260626T213000
DTSTAMP:20260424T162009
CREATED:20260409T151133Z
LAST-MODIFIED:20260424T141126Z
UID:24771-1782502200-1782509400@fegc.de
SUMMARY:Männertreff
DESCRIPTION:Thema: wird noch bekannt gegeben
URL:https://fegc.de/veranstaltung/maennertreff-18/
LOCATION:Mehrzweck groß?\, Küche
CATEGORIES:Sonstige Termine
END:VEVENT
BEGIN:VEVENT
DTSTART;TZID=Europe/Berlin:20260626T193000
DTEND;TZID=Europe/Berlin:20260626T220000
DTSTAMP:20260424T162009
CREATED:20251216T164153Z
LAST-MODIFIED:20260424T134126Z
UID:13943-1782502200-1782511200@fegc.de
SUMMARY:Move Up
DESCRIPTION:Jeden Freitag Abend startet unser Move Up. Hier  kannst du chillen\, Freunde treffen und einfach eine witzige und actionreiche Zeit erleben. Vor allem aber wollen wir mit dir Jesus besser kennenlernen und erfahren\, wie spannend das Leben mit IHM ist! Du kannst jeder Zeit einfach spontan und ohne Anmeldung kommen! Wir freuen uns auf dich!
URL:https://fegc.de/veranstaltung/move-up-59/
LOCATION:Jugendraum\, Bistro\, Mehrzweck klein\, Mehrzweck groß
CATEGORIES:Kinder-Jugend
END:VEVENT
BEGIN:VEVENT
DTSTART;TZID=Europe/Berlin:20260628T100000
DTEND;TZID=Europe/Berlin:20260628T113000
DTSTAMP:20260424T162009
CREATED:20251127T182626Z
LAST-MODIFIED:20260424T141112Z
UID:12253-1782640800-1782646200@fegc.de
SUMMARY:Gottesdienst mit Jakob Oettinger
DESCRIPTION:
URL:https://fegc.de/veranstaltung/gottesdienst-mit-robert-kroeger-38/
CATEGORIES:Gottesdienst
END:VEVENT
BEGIN:VEVENT
DTSTART;TZID=Europe/Berlin:20260630T093000
DTEND;TZID=Europe/Berlin:20260630T113000
DTSTAMP:20260424T162009
CREATED:20260119T135703Z
LAST-MODIFIED:20260424T134126Z
UID:17101-1782811800-1782819000@fegc.de
SUMMARY:Königskinder
DESCRIPTION:
URL:https://fegc.de/veranstaltung/koenigskinder-19/
LOCATION:Kinderraum\, Bistro
CATEGORIES:Kinder-Jugend
END:VEVENT
BEGIN:VEVENT
DTSTART;TZID=Europe/Berlin:20260630T193000
DTEND;TZID=Europe/Berlin:20260630T213000
DTSTAMP:20260424T162009
CREATED:20251216T164154Z
LAST-MODIFIED:20260424T134126Z
UID:13946-1782847800-1782855000@fegc.de
SUMMARY:Jugendkreis
DESCRIPTION:
URL:https://fegc.de/veranstaltung/jugendkreis-66/
CATEGORIES:Kinder-Jugend
END:VEVENT
END:VCALENDAR