BEGIN:VCALENDAR
VERSION:2.0
PRODID:-//Freie evangelische Gemeinde Coburg - ECPv6.15.20//NONSGML v1.0//EN
CALSCALE:GREGORIAN
METHOD:PUBLISH
X-ORIGINAL-URL:https://fegc.de
X-WR-CALDESC:Veranstaltungen für Freie evangelische Gemeinde Coburg
REFRESH-INTERVAL;VALUE=DURATION:PT1H
X-Robots-Tag:noindex
X-PUBLISHED-TTL:PT1H
BEGIN:VTIMEZONE
TZID:Europe/Berlin
BEGIN:DAYLIGHT
TZOFFSETFROM:+0100
TZOFFSETTO:+0200
TZNAME:CEST
DTSTART:20250330T010000
END:DAYLIGHT
BEGIN:STANDARD
TZOFFSETFROM:+0200
TZOFFSETTO:+0100
TZNAME:CET
DTSTART:20251026T010000
END:STANDARD
BEGIN:DAYLIGHT
TZOFFSETFROM:+0100
TZOFFSETTO:+0200
TZNAME:CEST
DTSTART:20260329T010000
END:DAYLIGHT
BEGIN:STANDARD
TZOFFSETFROM:+0200
TZOFFSETTO:+0100
TZNAME:CET
DTSTART:20261025T010000
END:STANDARD
BEGIN:DAYLIGHT
TZOFFSETFROM:+0100
TZOFFSETTO:+0200
TZNAME:CEST
DTSTART:20270328T010000
END:DAYLIGHT
BEGIN:STANDARD
TZOFFSETFROM:+0200
TZOFFSETTO:+0100
TZNAME:CET
DTSTART:20271031T010000
END:STANDARD
END:VTIMEZONE
BEGIN:VEVENT
DTSTART;TZID=Europe/Berlin:20260701T193000
DTEND;TZID=Europe/Berlin:20260701T203000
DTSTAMP:20260424T175306
CREATED:20260409T151133Z
LAST-MODIFIED:20260424T152607Z
UID:24772-1782934200-1782937800@fegc.de
SUMMARY:Gebetsabend
DESCRIPTION:
URL:https://fegc.de/veranstaltung/gebetsabend-5/
CATEGORIES:Sonstige Termine
END:VEVENT
BEGIN:VEVENT
DTSTART;TZID=Europe/Berlin:20260703T160000
DTEND;TZID=Europe/Berlin:20260703T180000
DTSTAMP:20260424T175306
CREATED:20260313T235835Z
LAST-MODIFIED:20260424T154207Z
UID:22269-1783094400-1783101600@fegc.de
SUMMARY:Move-Kids
DESCRIPTION:
URL:https://fegc.de/veranstaltung/move-kids-51/
LOCATION:gr. Saal\, Jugendraum\, Kinderraum\, Bistro\, Mehrzweck groß\, Mehrzweck klein\, Beamer\, Max-Böhme-Ring\, Bertelsdorf\, 96450\, Coburg\, de
CATEGORIES:Kinder-Jugend
END:VEVENT
BEGIN:VEVENT
DTSTART;TZID=Europe/Berlin:20260703T193000
DTEND;TZID=Europe/Berlin:20260703T220000
DTSTAMP:20260424T175306
CREATED:20251216T164154Z
LAST-MODIFIED:20260424T154207Z
UID:13945-1783107000-1783116000@fegc.de
SUMMARY:Move Up
DESCRIPTION:Jeden Freitag Abend startet unser Move Up. Hier  kannst du chillen\, Freunde treffen und einfach eine witzige und actionreiche Zeit erleben. Vor allem aber wollen wir mit dir Jesus besser kennenlernen und erfahren\, wie spannend das Leben mit IHM ist! Du kannst jeder Zeit einfach spontan und ohne Anmeldung kommen! Wir freuen uns auf dich!
URL:https://fegc.de/veranstaltung/move-up-60/
LOCATION:Jugendraum\, Bistro\, Mehrzweck klein\, Mehrzweck groß
CATEGORIES:Kinder-Jugend
END:VEVENT
BEGIN:VEVENT
DTSTART;TZID=Europe/Berlin:20260705T100000
DTEND;TZID=Europe/Berlin:20260705T113000
DTSTAMP:20260424T175306
CREATED:20251127T182640Z
LAST-MODIFIED:20260424T154142Z
UID:12258-1783245600-1783251000@fegc.de
SUMMARY:Gottesdienst mit Abendmahl mit Robert Kröger
DESCRIPTION:
URL:https://fegc.de/veranstaltung/gottesdienst-mit-abendmahl/
CATEGORIES:Gottesdienst
END:VEVENT
BEGIN:VEVENT
DTSTART;TZID=Europe/Berlin:20260707T093000
DTEND;TZID=Europe/Berlin:20260707T113000
DTSTAMP:20260424T175306
CREATED:20260119T135714Z
LAST-MODIFIED:20260424T154207Z
UID:17102-1783416600-1783423800@fegc.de
SUMMARY:Königskinder
DESCRIPTION:
URL:https://fegc.de/veranstaltung/koenigskinder-20/
LOCATION:Kinderraum\, Bistro
CATEGORIES:Kinder-Jugend
END:VEVENT
BEGIN:VEVENT
DTSTART;TZID=Europe/Berlin:20260707T143000
DTEND;TZID=Europe/Berlin:20260707T160000
DTSTAMP:20260424T175306
CREATED:20260409T151133Z
LAST-MODIFIED:20260424T152607Z
UID:24773-1783434600-1783440000@fegc.de
SUMMARY:Cafe' 60+
DESCRIPTION:
URL:https://fegc.de/veranstaltung/cafe-60-20/
LOCATION:Mehrzweck klein\, Mehrzweck groß\, Küche\, Bistro
CATEGORIES:Sonstige Termine
END:VEVENT
BEGIN:VEVENT
DTSTART;TZID=Europe/Berlin:20260707T193000
DTEND;TZID=Europe/Berlin:20260707T213000
DTSTAMP:20260424T175306
CREATED:20251216T164206Z
LAST-MODIFIED:20260424T154207Z
UID:13948-1783452600-1783459800@fegc.de
SUMMARY:Jugendkreis
DESCRIPTION:
URL:https://fegc.de/veranstaltung/jugendkreis-67/
CATEGORIES:Kinder-Jugend
END:VEVENT
BEGIN:VEVENT
DTSTART;TZID=Europe/Berlin:20260708T193000
DTEND;TZID=Europe/Berlin:20260708T203000
DTSTAMP:20260424T175306
CREATED:20260409T151133Z
LAST-MODIFIED:20260424T152618Z
UID:24774-1783539000-1783542600@fegc.de
SUMMARY:Bibelabend
DESCRIPTION:
URL:https://fegc.de/veranstaltung/bibelabend-52/
CATEGORIES:Sonstige Termine
END:VEVENT
BEGIN:VEVENT
DTSTART;TZID=Europe/Berlin:20260710T160000
DTEND;TZID=Europe/Berlin:20260710T180000
DTSTAMP:20260424T175306
CREATED:20260313T235848Z
LAST-MODIFIED:20260424T154207Z
UID:22270-1783699200-1783706400@fegc.de
SUMMARY:Move-Kids
DESCRIPTION:
URL:https://fegc.de/veranstaltung/move-kids-52/
LOCATION:gr. Saal\, Jugendraum\, Kinderraum\, Bistro\, Mehrzweck groß\, Mehrzweck klein\, Beamer\, Max-Böhme-Ring\, Bertelsdorf\, 96450\, Coburg\, de
CATEGORIES:Kinder-Jugend
END:VEVENT
BEGIN:VEVENT
DTSTART;TZID=Europe/Berlin:20260710T193000
DTEND;TZID=Europe/Berlin:20260710T220000
DTSTAMP:20260424T175306
CREATED:20251216T164206Z
LAST-MODIFIED:20260424T154220Z
UID:13947-1783711800-1783720800@fegc.de
SUMMARY:Move Up
DESCRIPTION:Jeden Freitag Abend startet unser Move Up. Hier  kannst du chillen\, Freunde treffen und einfach eine witzige und actionreiche Zeit erleben. Vor allem aber wollen wir mit dir Jesus besser kennenlernen und erfahren\, wie spannend das Leben mit IHM ist! Du kannst jeder Zeit einfach spontan und ohne Anmeldung kommen! Wir freuen uns auf dich!
URL:https://fegc.de/veranstaltung/move-up-61/
LOCATION:Jugendraum\, Bistro\, Mehrzweck klein\, Mehrzweck groß
CATEGORIES:Kinder-Jugend
END:VEVENT
BEGIN:VEVENT
DTSTART;TZID=Europe/Berlin:20260712T100000
DTEND;TZID=Europe/Berlin:20260712T113000
DTSTAMP:20260424T175306
CREATED:20251127T182626Z
LAST-MODIFIED:20260424T154143Z
UID:12255-1783850400-1783855800@fegc.de
SUMMARY:Gottesdienst mit Robert Kröger
DESCRIPTION:
URL:https://fegc.de/veranstaltung/gottesdienst-mit-dennis-ortmann/
CATEGORIES:Gottesdienst
END:VEVENT
BEGIN:VEVENT
DTSTART;TZID=Europe/Berlin:20260714T093000
DTEND;TZID=Europe/Berlin:20260714T113000
DTSTAMP:20260424T175306
CREATED:20260119T135715Z
LAST-MODIFIED:20260424T154220Z
UID:17103-1784021400-1784028600@fegc.de
SUMMARY:Königskinder
DESCRIPTION:
URL:https://fegc.de/veranstaltung/koenigskinder-21/
LOCATION:Kinderraum\, Bistro
CATEGORIES:Kinder-Jugend
END:VEVENT
BEGIN:VEVENT
DTSTART;TZID=Europe/Berlin:20260714T190000
DTEND;TZID=Europe/Berlin:20260714T213000
DTSTAMP:20260424T175306
CREATED:20260409T151134Z
LAST-MODIFIED:20260424T152618Z
UID:24775-1784055600-1784064600@fegc.de
SUMMARY:Handarbeitstreff
DESCRIPTION:
URL:https://fegc.de/veranstaltung/handarbeitstreff-11/
CATEGORIES:Sonstige Termine
END:VEVENT
BEGIN:VEVENT
DTSTART;TZID=Europe/Berlin:20260714T193000
DTEND;TZID=Europe/Berlin:20260714T213000
DTSTAMP:20260424T175306
CREATED:20251216T164206Z
LAST-MODIFIED:20260424T154220Z
UID:13950-1784057400-1784064600@fegc.de
SUMMARY:Jugendkreis
DESCRIPTION:
URL:https://fegc.de/veranstaltung/jugendkreis-68/
CATEGORIES:Kinder-Jugend
END:VEVENT
BEGIN:VEVENT
DTSTART;TZID=Europe/Berlin:20260715T193000
DTEND;TZID=Europe/Berlin:20260715T203000
DTSTAMP:20260424T175306
CREATED:20260409T151134Z
LAST-MODIFIED:20260424T152619Z
UID:24776-1784143800-1784147400@fegc.de
SUMMARY:Bibelabend
DESCRIPTION:
URL:https://fegc.de/veranstaltung/bibelabend-53/
CATEGORIES:Sonstige Termine
END:VEVENT
BEGIN:VEVENT
DTSTART;TZID=Europe/Berlin:20260717T160000
DTEND;TZID=Europe/Berlin:20260717T180000
DTSTAMP:20260424T175306
CREATED:20260313T235848Z
LAST-MODIFIED:20260424T154220Z
UID:22271-1784304000-1784311200@fegc.de
SUMMARY:Move-Kids
DESCRIPTION:
URL:https://fegc.de/veranstaltung/move-kids-53/
LOCATION:gr. Saal\, Jugendraum\, Kinderraum\, Bistro\, Mehrzweck groß\, Mehrzweck klein\, Beamer\, Max-Böhme-Ring\, Bertelsdorf\, 96450\, Coburg\, de
CATEGORIES:Kinder-Jugend
END:VEVENT
BEGIN:VEVENT
DTSTART;TZID=Europe/Berlin:20260717T193000
DTEND;TZID=Europe/Berlin:20260717T220000
DTSTAMP:20260424T175306
CREATED:20251216T164206Z
LAST-MODIFIED:20260424T154220Z
UID:13949-1784316600-1784325600@fegc.de
SUMMARY:Move Up
DESCRIPTION:Jeden Freitag Abend startet unser Move Up. Hier  kannst du chillen\, Freunde treffen und einfach eine witzige und actionreiche Zeit erleben. Vor allem aber wollen wir mit dir Jesus besser kennenlernen und erfahren\, wie spannend das Leben mit IHM ist! Du kannst jeder Zeit einfach spontan und ohne Anmeldung kommen! Wir freuen uns auf dich!
URL:https://fegc.de/veranstaltung/move-up-62/
LOCATION:Jugendraum\, Bistro\, Mehrzweck klein\, Mehrzweck groß
CATEGORIES:Kinder-Jugend
END:VEVENT
BEGIN:VEVENT
DTSTART;TZID=Europe/Berlin:20260719T100000
DTEND;TZID=Europe/Berlin:20260719T113000
DTSTAMP:20260424T175306
CREATED:20260304T081323Z
LAST-MODIFIED:20260424T154143Z
UID:21406-1784455200-1784460600@fegc.de
SUMMARY:Tauf-Gottesdienst mit David Stamm
DESCRIPTION:Open Air
URL:https://fegc.de/veranstaltung/tauf-gottesdienst/
CATEGORIES:Gottesdienst
END:VEVENT
BEGIN:VEVENT
DTSTART;TZID=Europe/Berlin:20260721T093000
DTEND;TZID=Europe/Berlin:20260721T113000
DTSTAMP:20260424T175306
CREATED:20260119T135715Z
LAST-MODIFIED:20260424T154220Z
UID:17104-1784626200-1784633400@fegc.de
SUMMARY:Königskinder
DESCRIPTION:
URL:https://fegc.de/veranstaltung/koenigskinder-22/
LOCATION:Kinderraum\, Bistro
CATEGORIES:Kinder-Jugend
END:VEVENT
BEGIN:VEVENT
DTSTART;TZID=Europe/Berlin:20260721T193000
DTEND;TZID=Europe/Berlin:20260721T213000
DTSTAMP:20260424T175306
CREATED:20251216T164206Z
LAST-MODIFIED:20260424T154220Z
UID:13952-1784662200-1784669400@fegc.de
SUMMARY:Jugendkreis
DESCRIPTION:
URL:https://fegc.de/veranstaltung/jugendkreis-69/
CATEGORIES:Kinder-Jugend
END:VEVENT
BEGIN:VEVENT
DTSTART;TZID=Europe/Berlin:20260722T193000
DTEND;TZID=Europe/Berlin:20260722T203000
DTSTAMP:20260424T175306
CREATED:20260409T151134Z
LAST-MODIFIED:20260424T152619Z
UID:24777-1784748600-1784752200@fegc.de
SUMMARY:Bibelabend
DESCRIPTION:
URL:https://fegc.de/veranstaltung/bibelabend-54/
CATEGORIES:Sonstige Termine
END:VEVENT
BEGIN:VEVENT
DTSTART;TZID=Europe/Berlin:20260724T160000
DTEND;TZID=Europe/Berlin:20260724T180000
DTSTAMP:20260424T175306
CREATED:20260313T235901Z
LAST-MODIFIED:20260424T154220Z
UID:22272-1784908800-1784916000@fegc.de
SUMMARY:Move-Kids
DESCRIPTION:
URL:https://fegc.de/veranstaltung/move-kids-54/
LOCATION:gr. Saal\, Jugendraum\, Kinderraum\, Bistro\, Mehrzweck groß\, Mehrzweck klein\, Beamer\, Max-Böhme-Ring\, Bertelsdorf\, 96450\, Coburg\, de
CATEGORIES:Kinder-Jugend
END:VEVENT
BEGIN:VEVENT
DTSTART;TZID=Europe/Berlin:20260724T193000
DTEND;TZID=Europe/Berlin:20260724T220000
DTSTAMP:20260424T175306
CREATED:20251216T164206Z
LAST-MODIFIED:20260424T154220Z
UID:13951-1784921400-1784930400@fegc.de
SUMMARY:Move Up
DESCRIPTION:Jeden Freitag Abend startet unser Move Up. Hier  kannst du chillen\, Freunde treffen und einfach eine witzige und actionreiche Zeit erleben. Vor allem aber wollen wir mit dir Jesus besser kennenlernen und erfahren\, wie spannend das Leben mit IHM ist! Du kannst jeder Zeit einfach spontan und ohne Anmeldung kommen! Wir freuen uns auf dich!
URL:https://fegc.de/veranstaltung/move-up-63/
LOCATION:Jugendraum\, Bistro\, Mehrzweck klein\, Mehrzweck groß
CATEGORIES:Kinder-Jugend
END:VEVENT
BEGIN:VEVENT
DTSTART;TZID=Europe/Berlin:20260726T100000
DTEND;TZID=Europe/Berlin:20260726T113000
DTSTAMP:20260424T175306
CREATED:20251127T182626Z
LAST-MODIFIED:20260424T154143Z
UID:12256-1785060000-1785065400@fegc.de
SUMMARY:Gottesdienst mit Robert Kröger
DESCRIPTION:
URL:https://fegc.de/veranstaltung/gottesdienst-mit-david-stamm-8/
CATEGORIES:Gottesdienst
END:VEVENT
BEGIN:VEVENT
DTSTART;TZID=Europe/Berlin:20260728T093000
DTEND;TZID=Europe/Berlin:20260728T113000
DTSTAMP:20260424T175306
CREATED:20260119T135715Z
LAST-MODIFIED:20260424T154220Z
UID:17105-1785231000-1785238200@fegc.de
SUMMARY:Königskinder
DESCRIPTION:
URL:https://fegc.de/veranstaltung/koenigskinder-23/
LOCATION:Kinderraum\, Bistro
CATEGORIES:Kinder-Jugend
END:VEVENT
BEGIN:VEVENT
DTSTART;TZID=Europe/Berlin:20260728T193000
DTEND;TZID=Europe/Berlin:20260728T213000
DTSTAMP:20260424T175306
CREATED:20251216T164207Z
LAST-MODIFIED:20260424T154232Z
UID:13954-1785267000-1785274200@fegc.de
SUMMARY:Jugendkreis
DESCRIPTION:
URL:https://fegc.de/veranstaltung/jugendkreis-70/
CATEGORIES:Kinder-Jugend
END:VEVENT
BEGIN:VEVENT
DTSTART;TZID=Europe/Berlin:20260729T193000
DTEND;TZID=Europe/Berlin:20260729T203000
DTSTAMP:20260424T175306
CREATED:20260409T151134Z
LAST-MODIFIED:20260424T152619Z
UID:24778-1785353400-1785357000@fegc.de
SUMMARY:Bibelabend
DESCRIPTION:
URL:https://fegc.de/veranstaltung/bibelabend-55/
CATEGORIES:Sonstige Termine
END:VEVENT
BEGIN:VEVENT
DTSTART;TZID=Europe/Berlin:20260731T160000
DTEND;TZID=Europe/Berlin:20260731T180000
DTSTAMP:20260424T175306
CREATED:20260313T235902Z
LAST-MODIFIED:20260424T154233Z
UID:22273-1785513600-1785520800@fegc.de
SUMMARY:Move-Kids
DESCRIPTION:
URL:https://fegc.de/veranstaltung/move-kids-55/
LOCATION:gr. Saal\, Jugendraum\, Kinderraum\, Bistro\, Mehrzweck groß\, Mehrzweck klein\, Beamer\, Max-Böhme-Ring\, Bertelsdorf\, 96450\, Coburg\, de
CATEGORIES:Kinder-Jugend
END:VEVENT
BEGIN:VEVENT
DTSTART;TZID=Europe/Berlin:20260731T193000
DTEND;TZID=Europe/Berlin:20260731T213000
DTSTAMP:20260424T175306
CREATED:20260409T151134Z
LAST-MODIFIED:20260424T152619Z
UID:24779-1785526200-1785533400@fegc.de
SUMMARY:Männertreff
DESCRIPTION:Sommerfest
URL:https://fegc.de/veranstaltung/maennertreff-19/
LOCATION:Mehrzweck groß?\, Küche
CATEGORIES:Sonstige Termine
END:VEVENT
BEGIN:VEVENT
DTSTART;TZID=Europe/Berlin:20260731T193000
DTEND;TZID=Europe/Berlin:20260731T220000
DTSTAMP:20260424T175306
CREATED:20251216T164206Z
LAST-MODIFIED:20260424T154233Z
UID:13953-1785526200-1785535200@fegc.de
SUMMARY:Move Up
DESCRIPTION:Jeden Freitag Abend startet unser Move Up. Hier  kannst du chillen\, Freunde treffen und einfach eine witzige und actionreiche Zeit erleben. Vor allem aber wollen wir mit dir Jesus besser kennenlernen und erfahren\, wie spannend das Leben mit IHM ist! Du kannst jeder Zeit einfach spontan und ohne Anmeldung kommen! Wir freuen uns auf dich!
URL:https://fegc.de/veranstaltung/move-up-64/
LOCATION:Jugendraum\, Bistro\, Mehrzweck klein\, Mehrzweck groß
CATEGORIES:Kinder-Jugend
END:VEVENT
END:VCALENDAR