BEGIN:VCALENDAR
VERSION:2.0
PRODID:-//Freie evangelische Gemeinde Coburg - ECPv6.15.20//NONSGML v1.0//EN
CALSCALE:GREGORIAN
METHOD:PUBLISH
X-ORIGINAL-URL:https://fegc.de
X-WR-CALDESC:Veranstaltungen für Freie evangelische Gemeinde Coburg
REFRESH-INTERVAL;VALUE=DURATION:PT1H
X-Robots-Tag:noindex
X-PUBLISHED-TTL:PT1H
BEGIN:VTIMEZONE
TZID:Europe/Berlin
BEGIN:DAYLIGHT
TZOFFSETFROM:+0100
TZOFFSETTO:+0200
TZNAME:CEST
DTSTART:20250330T010000
END:DAYLIGHT
BEGIN:STANDARD
TZOFFSETFROM:+0200
TZOFFSETTO:+0100
TZNAME:CET
DTSTART:20251026T010000
END:STANDARD
BEGIN:DAYLIGHT
TZOFFSETFROM:+0100
TZOFFSETTO:+0200
TZNAME:CEST
DTSTART:20260329T010000
END:DAYLIGHT
BEGIN:STANDARD
TZOFFSETFROM:+0200
TZOFFSETTO:+0100
TZNAME:CET
DTSTART:20261025T010000
END:STANDARD
BEGIN:DAYLIGHT
TZOFFSETFROM:+0100
TZOFFSETTO:+0200
TZNAME:CEST
DTSTART:20270328T010000
END:DAYLIGHT
BEGIN:STANDARD
TZOFFSETFROM:+0200
TZOFFSETTO:+0100
TZNAME:CET
DTSTART:20271031T010000
END:STANDARD
END:VTIMEZONE
BEGIN:VEVENT
DTSTART;TZID=Europe/Berlin:20260901T143000
DTEND;TZID=Europe/Berlin:20260901T160000
DTSTAMP:20260424T204434
CREATED:20260409T151146Z
LAST-MODIFIED:20260424T182657Z
UID:24786-1788273000-1788278400@fegc.de
SUMMARY:Cafe' 60+
DESCRIPTION:
URL:https://fegc.de/veranstaltung/cafe-60-22/
LOCATION:Mehrzweck klein\, Mehrzweck groß\, Küche\, Bistro
CATEGORIES:Sonstige Termine
END:VEVENT
BEGIN:VEVENT
DTSTART;TZID=Europe/Berlin:20260902T193000
DTEND;TZID=Europe/Berlin:20260902T203000
DTSTAMP:20260424T204434
CREATED:20260409T151146Z
LAST-MODIFIED:20260424T182657Z
UID:24787-1788377400-1788381000@fegc.de
SUMMARY:Gebetsabend
DESCRIPTION:
URL:https://fegc.de/veranstaltung/gebetsabend-7/
CATEGORIES:Sonstige Termine
END:VEVENT
BEGIN:VEVENT
DTSTART;TZID=Europe/Berlin:20260906T100000
DTEND;TZID=Europe/Berlin:20260906T113000
DTSTAMP:20260424T204434
CREATED:20251127T182641Z
LAST-MODIFIED:20260424T182631Z
UID:12267-1788688800-1788694200@fegc.de
SUMMARY:Gottesdienst mit Abendmahl mit Robert Kröger
DESCRIPTION:
URL:https://fegc.de/veranstaltung/gottesdienst-mit-abendmahl-3/
CATEGORIES:Gottesdienst
END:VEVENT
BEGIN:VEVENT
DTSTART;TZID=Europe/Berlin:20260908T190000
DTEND;TZID=Europe/Berlin:20260908T213000
DTSTAMP:20260424T204434
CREATED:20260409T151146Z
LAST-MODIFIED:20260424T182657Z
UID:24788-1788894000-1788903000@fegc.de
SUMMARY:Handarbeitstreff
DESCRIPTION:
URL:https://fegc.de/veranstaltung/handarbeitstreff-13/
CATEGORIES:Sonstige Termine
END:VEVENT
BEGIN:VEVENT
DTSTART;TZID=Europe/Berlin:20260909T193000
DTEND;TZID=Europe/Berlin:20260909T203000
DTSTAMP:20260424T204434
CREATED:20260409T151147Z
LAST-MODIFIED:20260424T182657Z
UID:24789-1788982200-1788985800@fegc.de
SUMMARY:Bibelabend
DESCRIPTION:
URL:https://fegc.de/veranstaltung/bibelabend-59/
CATEGORIES:Sonstige Termine
END:VEVENT
BEGIN:VEVENT
DTSTART;TZID=Europe/Berlin:20260913T100000
DTEND;TZID=Europe/Berlin:20260913T113000
DTSTAMP:20260424T204434
CREATED:20251127T182640Z
LAST-MODIFIED:20260424T182644Z
UID:12263-1789293600-1789299000@fegc.de
SUMMARY:Gottesdienst mit David Stamm
DESCRIPTION:
URL:https://fegc.de/veranstaltung/gottesdienst-26/
CATEGORIES:Gottesdienst
END:VEVENT
BEGIN:VEVENT
DTSTART;TZID=Europe/Berlin:20260915T193000
DTEND;TZID=Europe/Berlin:20260915T213000
DTSTAMP:20260424T204434
CREATED:20251216T164207Z
LAST-MODIFIED:20260424T175657Z
UID:13956-1789500600-1789507800@fegc.de
SUMMARY:Jugendkreis
DESCRIPTION:
URL:https://fegc.de/veranstaltung/jugendkreis-71/
CATEGORIES:Kinder-Jugend
END:VEVENT
BEGIN:VEVENT
DTSTART;TZID=Europe/Berlin:20260916T193000
DTEND;TZID=Europe/Berlin:20260916T203000
DTSTAMP:20260424T204434
CREATED:20260409T151147Z
LAST-MODIFIED:20260424T182657Z
UID:24790-1789587000-1789590600@fegc.de
SUMMARY:Bibelabend
DESCRIPTION:
URL:https://fegc.de/veranstaltung/bibelabend-60/
CATEGORIES:Sonstige Termine
END:VEVENT
BEGIN:VEVENT
DTSTART;TZID=Europe/Berlin:20260918T160000
DTEND;TZID=Europe/Berlin:20260918T180000
DTSTAMP:20260424T204434
CREATED:20260313T235902Z
LAST-MODIFIED:20260424T175657Z
UID:22274-1789747200-1789754400@fegc.de
SUMMARY:Move-Kids
DESCRIPTION:
URL:https://fegc.de/veranstaltung/move-kids-56/
LOCATION:gr. Saal\, Jugendraum\, Kinderraum\, Bistro\, Mehrzweck groß\, Mehrzweck klein\, Beamer\, Max-Böhme-Ring\, Bertelsdorf\, 96450\, Coburg\, de
CATEGORIES:Kinder-Jugend
END:VEVENT
BEGIN:VEVENT
DTSTART;TZID=Europe/Berlin:20260918T193000
DTEND;TZID=Europe/Berlin:20260918T220000
DTSTAMP:20260424T204434
CREATED:20251216T164207Z
LAST-MODIFIED:20260424T175657Z
UID:13955-1789759800-1789768800@fegc.de
SUMMARY:Move Up
DESCRIPTION:Jeden Freitag Abend startet unser Move Up. Hier  kannst du chillen\, Freunde treffen und einfach eine witzige und actionreiche Zeit erleben. Vor allem aber wollen wir mit dir Jesus besser kennenlernen und erfahren\, wie spannend das Leben mit IHM ist! Du kannst jeder Zeit einfach spontan und ohne Anmeldung kommen! Wir freuen uns auf dich!
URL:https://fegc.de/veranstaltung/move-up-65/
LOCATION:Jugendraum\, Bistro\, Mehrzweck klein\, Mehrzweck groß
CATEGORIES:Kinder-Jugend
END:VEVENT
BEGIN:VEVENT
DTSTART;TZID=Europe/Berlin:20260920T100000
DTEND;TZID=Europe/Berlin:20260920T113000
DTSTAMP:20260424T204434
CREATED:20260304T085639Z
LAST-MODIFIED:20260424T182644Z
UID:21411-1789898400-1789903800@fegc.de
SUMMARY:Missions-Gottesdienst mit Rainer Kröger
DESCRIPTION:
URL:https://fegc.de/veranstaltung/missions-gottesdienst-mit-rainer-kroeger/
CATEGORIES:Gottesdienst
END:VEVENT
BEGIN:VEVENT
DTSTART;TZID=Europe/Berlin:20260922T193000
DTEND;TZID=Europe/Berlin:20260922T213000
DTSTAMP:20260424T204434
CREATED:20251216T164219Z
LAST-MODIFIED:20260424T175657Z
UID:13958-1790105400-1790112600@fegc.de
SUMMARY:Jugendkreis
DESCRIPTION:
URL:https://fegc.de/veranstaltung/jugendkreis-72/
CATEGORIES:Kinder-Jugend
END:VEVENT
BEGIN:VEVENT
DTSTART;TZID=Europe/Berlin:20260923T193000
DTEND;TZID=Europe/Berlin:20260923T203000
DTSTAMP:20260424T204434
CREATED:20260409T151159Z
LAST-MODIFIED:20260424T182657Z
UID:24791-1790191800-1790195400@fegc.de
SUMMARY:Bibelabend
DESCRIPTION:
URL:https://fegc.de/veranstaltung/bibelabend-61/
CATEGORIES:Sonstige Termine
END:VEVENT
BEGIN:VEVENT
DTSTART;TZID=Europe/Berlin:20260925T160000
DTEND;TZID=Europe/Berlin:20260925T180000
DTSTAMP:20260424T204434
CREATED:20260313T235914Z
LAST-MODIFIED:20260424T175657Z
UID:22275-1790352000-1790359200@fegc.de
SUMMARY:Move-Kids
DESCRIPTION:
URL:https://fegc.de/veranstaltung/move-kids-57/
LOCATION:gr. Saal\, Jugendraum\, Kinderraum\, Bistro\, Mehrzweck groß\, Mehrzweck klein\, Beamer\, Max-Böhme-Ring\, Bertelsdorf\, 96450\, Coburg\, de
CATEGORIES:Kinder-Jugend
END:VEVENT
BEGIN:VEVENT
DTSTART;TZID=Europe/Berlin:20260925T193000
DTEND;TZID=Europe/Berlin:20260925T213000
DTSTAMP:20260424T204434
CREATED:20260409T151159Z
LAST-MODIFIED:20260424T182657Z
UID:24792-1790364600-1790371800@fegc.de
SUMMARY:Männertreff
DESCRIPTION:Thema: wird noch bekannt gegeben
URL:https://fegc.de/veranstaltung/maennertreff-20/
LOCATION:Mehrzweck groß?\, Küche
CATEGORIES:Sonstige Termine
END:VEVENT
BEGIN:VEVENT
DTSTART;TZID=Europe/Berlin:20260925T193000
DTEND;TZID=Europe/Berlin:20260925T220000
DTSTAMP:20260424T204434
CREATED:20251216T164219Z
LAST-MODIFIED:20260424T175657Z
UID:13957-1790364600-1790373600@fegc.de
SUMMARY:Move Up
DESCRIPTION:Jeden Freitag Abend startet unser Move Up. Hier  kannst du chillen\, Freunde treffen und einfach eine witzige und actionreiche Zeit erleben. Vor allem aber wollen wir mit dir Jesus besser kennenlernen und erfahren\, wie spannend das Leben mit IHM ist! Du kannst jeder Zeit einfach spontan und ohne Anmeldung kommen! Wir freuen uns auf dich!
URL:https://fegc.de/veranstaltung/move-up-66/
LOCATION:Jugendraum\, Bistro\, Mehrzweck klein\, Mehrzweck groß
CATEGORIES:Kinder-Jugend
END:VEVENT
BEGIN:VEVENT
DTSTART;TZID=Europe/Berlin:20260927T100000
DTEND;TZID=Europe/Berlin:20260927T113000
DTSTAMP:20260424T204434
CREATED:20251127T182641Z
LAST-MODIFIED:20260424T182644Z
UID:12264-1790503200-1790508600@fegc.de
SUMMARY:Gottesdienst mit Robert Kröger
DESCRIPTION:
URL:https://fegc.de/veranstaltung/gottesdienst-28/
CATEGORIES:Gottesdienst
END:VEVENT
BEGIN:VEVENT
DTSTART;TZID=Europe/Berlin:20260929T193000
DTEND;TZID=Europe/Berlin:20260929T213000
DTSTAMP:20260424T204434
CREATED:20251216T164219Z
LAST-MODIFIED:20260424T175657Z
UID:13960-1790710200-1790717400@fegc.de
SUMMARY:Jugendkreis
DESCRIPTION:
URL:https://fegc.de/veranstaltung/jugendkreis-73/
CATEGORIES:Kinder-Jugend
END:VEVENT
BEGIN:VEVENT
DTSTART;TZID=Europe/Berlin:20260930T193000
DTEND;TZID=Europe/Berlin:20260930T203000
DTSTAMP:20260424T204434
CREATED:20260409T151159Z
LAST-MODIFIED:20260424T182657Z
UID:24793-1790796600-1790800200@fegc.de
SUMMARY:Bibelabend
DESCRIPTION:
URL:https://fegc.de/veranstaltung/bibelabend-62/
CATEGORIES:Sonstige Termine
END:VEVENT
END:VCALENDAR